BEGIN:VCALENDAR
VERSION:2.0
PRODID:-//wp-events-plugin.com//7.2.3.1//EN
TZID:America/New_York
X-WR-TIMEZONE:America/New_York
BEGIN:VEVENT
UID:13632@findingconnecticut.com
DTSTART;TZID=America/New_York:20260124T100000
DTEND;TZID=America/New_York:20260124T130000
DTSTAMP:20251226T024111Z
URL:https://findingconnecticut.com/events/cityseeds-indoor-winter-market-2
 026-01-03-2026-01-10-2026-01-17-2026-01-24/
SUMMARY:CitySeed's Indoor Winter Market
DESCRIPTION:\n\n\nCitySeed's Indoor Winter Market\n10 am - 1 pm\n\n\n\nCont
 e West Hills Middle School\n  511 Chapel Street New Haven\, CT 06511\n\n
  Enjoy local food from Connecticut farms at our Winter Market! Starting a
 t the beginning of the New Year and running through March\, find fresh veg
 etables\, gourmet prepared meals made with local ingredients\, organic sau
 ces and dressings\, maple syrup\, eggs\, handcrafted bread\, and more! Cit
 ySeed Farmers’ Markets are Connecticut Grown and producer-only\, featuri
 ng organic and pesticide-free foods. Cash\, credit\, debit and SNAP/EBT ac
 cepted. Conte School\, 511 Chapel St\, New Haven.\n\nSaturdays\, January 6
  - March 23\, 2024 10:00 AM - 1:00 PM. Enjoy local food from Connecticut f
 arms at our Winter Market!\n\n\n\n\n\n\n\n\n\n\n Share your City Seed Ind
 oor Winter Market  experience with us by using #findingconnecticut on In
 stagram\n\n Click here to return to our home page.\n\n[caption id="attach
 ment_16083" align="alignnone" width="300"] shop.findingconnecticut.com[/ca
 ption]\n\n\n\n
ATTACH;FMTTYPE=image/jpeg:https://findingconnecticut.com/wp-content/upload
 s/2023/03/image.png
CATEGORIES:New Haven
LOCATION:City Seed - New Haven Winter Market\,  Conte West Hills Middle Sch
 ool\, New Haven\, Connecticut \, 06511\, New England \, United States
X-APPLE-STRUCTURED-LOCATION;VALUE=URI;X-ADDRESS= Conte West Hills Middle Sc
 hool\, New Haven\, Connecticut \, 06511\, New England \, United States;X-A
 PPLE-RADIUS=100;X-TITLE=City Seed - New Haven Winter Market:geo:0,0
END:VEVENT
BEGIN:VTIMEZONE
TZID:America/New_York
X-LIC-LOCATION:America/New_York
BEGIN:STANDARD
DTSTART:20251102T010000
TZOFFSETFROM:-0400
TZOFFSETTO:-0500
TZNAME:EST
END:STANDARD
END:VTIMEZONE
END:VCALENDAR