BEGIN:VCALENDAR
VERSION:2.0
PRODID:-//wp-events-plugin.com//7.2.3.1//EN
TZID:America/New_York
X-WR-TIMEZONE:America/New_York
BEGIN:VEVENT
UID:1972@findingconnecticut.com
DTSTART;TZID=America/New_York:20231228T200000
DTEND;TZID=America/New_York:20231228T223000
DTSTAMP:20230717T163825Z
URL:https://findingconnecticut.com/events/cirque-dreams-celebration/
SUMMARY:Cirque Dreams Celebration
DESCRIPTION:Cirque Dreams Celebration\nDecember 28\, 2023\nClick here for m
 ore information \n\n Mohegan Sun \n1 Mohegan Sun Blvd.\nUncasville\, CT
  06382\n\nTo add an event please email us\, we monitor for spam. We need a
  photo\, description and website for each submission - We do not accept su
 bmissions that are within the next 3 days. submissions at findingconnectic
 ut.com\n\n[caption id="attachment_16083" align="alignnone" width="300"] sh
 op.findingconnecticut.com[/caption]\n\n 
ATTACH;FMTTYPE=image/jpeg:https://findingconnecticut.com/wp-content/upload
 s/2023/07/unnamed-79-scaled.jpg
CATEGORIES:Uncasville
LOCATION:Mohegan Sun\, 1 Mohegan Sun Blvd\, \, Uncasville\, \, Connecticut\
 , \, 06382\, New England \, United States
X-APPLE-STRUCTURED-LOCATION;VALUE=URI;X-ADDRESS=1 Mohegan Sun Blvd\, \, Unc
 asville\, \, Connecticut\, \, 06382\, New England \, United States;X-APPLE
 -RADIUS=100;X-TITLE=Mohegan Sun:geo:0,0
END:VEVENT
BEGIN:VTIMEZONE
TZID:America/New_York
X-LIC-LOCATION:America/New_York
BEGIN:STANDARD
DTSTART:20231105T010000
TZOFFSETFROM:-0400
TZOFFSETTO:-0500
TZNAME:EST
END:STANDARD
END:VTIMEZONE
END:VCALENDAR