BEGIN:VCALENDAR
VERSION:2.0
PRODID:-//wp-events-plugin.com//7.2.3.1//EN
TZID:America/New_York
X-WR-TIMEZONE:America/New_York
BEGIN:VEVENT
UID:7235@findingconnecticut.com
DTSTART;TZID=America/New_York:20241226T190000
DTEND;TZID=America/New_York:20241226T213000
DTSTAMP:20240805T150139Z
URL:https://findingconnecticut.com/events/cirque-dreams-celebration-4/
SUMMARY:Cirque Dreams Celebration
DESCRIPTION:Cirque Dreams Celebration\nDecember 26\, 2024  •  7:00pm\n\
 n Click here for more information \n\n Mohegan Sun \n1 Mohegan Sun Blv
 d.\nUncasville\, CT 06382\n\n Click here to return to Finding Connecticut
 's home page\n\nTo add an event please email us\, we monitor for spam. We 
 need a photo\, description and website for each submission - We do not acc
 ept submissions that are within the next 3 days. submissions at findingcon
 necticut.com  \n\n[caption id="attachment_16083" align="alignnone" width
 ="300"] shop.findingconnecticut.com[/caption]
ATTACH;FMTTYPE=image/jpeg:https://findingconnecticut.com/wp-content/upload
 s/2024/08/unnamed-179.jpg
CATEGORIES:Uncasville
LOCATION:Mohegan Sun\, 1 Mohegan Sun Blvd\, \, Uncasville\, \, Connecticut\
 , \, 06382\, New England \, United States
X-APPLE-STRUCTURED-LOCATION;VALUE=URI;X-ADDRESS=1 Mohegan Sun Blvd\, \, Unc
 asville\, \, Connecticut\, \, 06382\, New England \, United States;X-APPLE
 -RADIUS=100;X-TITLE=Mohegan Sun:geo:0,0
END:VEVENT
BEGIN:VTIMEZONE
TZID:America/New_York
X-LIC-LOCATION:America/New_York
BEGIN:STANDARD
DTSTART:20241103T010000
TZOFFSETFROM:-0400
TZOFFSETTO:-0500
TZNAME:EST
END:STANDARD
END:VTIMEZONE
END:VCALENDAR