BEGIN:VCALENDAR
VERSION:2.0
PRODID:-//wp-events-plugin.com//7.2.3.1//EN
TZID:America/New_York
X-WR-TIMEZONE:America/New_York
BEGIN:VEVENT
UID:13224@findingconnecticut.com
DTSTART;TZID=America/New_York:20251207T150000
DTEND;TZID=America/New_York:20251207T180000
DTSTAMP:20251024T210111Z
URL:https://findingconnecticut.com/events/christmas-tree-lighting-mohegan-
 sun-december-7-2025/
SUMMARY:Christmas tree lighting
DESCRIPTION:Christmas tree lighting\nDecember 7 2025  •  3 pm - 6 pm\n\
 n Click here for more information \n\n Mohegan Sun \n1 Mohegan Sun Blv
 d.\nUncasville\, CT 06382\nAs of March 2025\, all event listings require p
 ayment.\nTo submit your event\, please send the event details along with a
  photo and/or logo to submissions at findingconnecticut dot com. You can c
 omplete your payment here\nYour event will be published within 24 hours a
 fter both payment and all required information have been received.\nWe off
 er discounts for multiple event listings.\nThank you for supporting Findi
 ng Connecticut—your participation helps us grow our website and brand.\n
 (We do not publish any content that has to do with areas outside of Connec
 ticut. If you are looking to post on our Hudson Valley or New York City pa
 ges\, then contact us via email.)\n Click here to return to Finding Conne
 cticut's home page\n\n[caption id="attachment_16083" align="alignnone" wid
 th="300"] shop.findingconnecticut.com[/caption]
ATTACH;FMTTYPE=image/jpeg:https://findingconnecticut.com/wp-content/upload
 s/2025/10/vcsPRAsset_2929240_174456_987bbf15-efe9-4087-9200-984d18666149_0
 .jpg
CATEGORIES:Uncasville
LOCATION:Mohegan Sun\, 1 Mohegan Sun Blvd\, \, Uncasville\, \, Connecticut\
 , \, 06382\, New England \, United States
X-APPLE-STRUCTURED-LOCATION;VALUE=URI;X-ADDRESS=1 Mohegan Sun Blvd\, \, Unc
 asville\, \, Connecticut\, \, 06382\, New England \, United States;X-APPLE
 -RADIUS=100;X-TITLE=Mohegan Sun:geo:0,0
END:VEVENT
BEGIN:VTIMEZONE
TZID:America/New_York
X-LIC-LOCATION:America/New_York
BEGIN:STANDARD
DTSTART:20251102T010000
TZOFFSETFROM:-0400
TZOFFSETTO:-0500
TZNAME:EST
END:STANDARD
END:VTIMEZONE
END:VCALENDAR