BEGIN:VCALENDAR
VERSION:2.0
PRODID:-//wp-events-plugin.com//7.2.3.1//EN
TZID:America/New_York
X-WR-TIMEZONE:America/New_York
BEGIN:VEVENT
UID:6166@findingconnecticut.com
DTSTART;TZID=America/New_York:20230614T190000
DTEND;TZID=America/New_York:20230614T210000
DTSTAMP:20240525T205746Z
URL:https://findingconnecticut.com/events/chic-cheeky-moca-westport/
SUMMARY:Chic & Cheeky @ MoCA Westport
DESCRIPTION:Chic &amp\; Cheeky @ MoCA Westport\nJune 14\, 2024\n\nClick her
 e for more information \n\nMoCA Westport \n19 Newtown Turnpike\nWestport
 \, Connecticut 06880\n\nTo add an event please email us\, we monitor for s
 pam. We need a photo\, description and website for each submission - We do
  not accept submissions that are within the next 3 days. submissions@findi
 ngconnecticut.com\n\n[caption id="attachment_16083" align="alignnone" widt
 h="300"] shop.findingconnecticut.com[/caption]
ATTACH;FMTTYPE=image/jpeg:https://findingconnecticut.com/wp-content/upload
 s/2024/05/unnamed-11.jpg
CATEGORIES:Westport
LOCATION:MoCA Westport\, 19 Newtown Turnpike \, Westport\, Connecticut\, 06
 880\, New England \, United States
X-APPLE-STRUCTURED-LOCATION;VALUE=URI;X-ADDRESS=19 Newtown Turnpike \, West
 port\, Connecticut\, 06880\, New England \, United States;X-APPLE-RADIUS=1
 00;X-TITLE=MoCA Westport:geo:0,0
END:VEVENT
BEGIN:VTIMEZONE
TZID:America/New_York
X-LIC-LOCATION:America/New_York
BEGIN:DAYLIGHT
DTSTART:20230312T030000
TZOFFSETFROM:-0500
TZOFFSETTO:-0400
TZNAME:EDT
END:DAYLIGHT
END:VTIMEZONE
END:VCALENDAR