BEGIN:VCALENDAR
VERSION:2.0
PRODID:-//wp-events-plugin.com//7.2.3.1//EN
TZID:America/New_York
X-WR-TIMEZONE:America/New_York
BEGIN:VEVENT
UID:2014@findingconnecticut.com
DTSTART;TZID=America/New_York:20230812T200000
DTEND;TZID=America/New_York:20230812T230000
DTSTAMP:20230722T023139Z
URL:https://findingconnecticut.com/events/ces-boxing-summer-heat-2023/
SUMMARY:CES Boxing Summer Heat 2023
DESCRIPTION:CES Boxing Summer Heat 2023\nAugust 12\, 2023\nClick here for m
 ore information \n\n Mohegan Sun \n1 Mohegan Sun Blvd.\nUncasville\, CT
  06382\n\nTo add an event please email us\, we monitor for spam. We need a
  photo\, description and website for each submission - We do not accept su
 bmissions that are within the next 3 days. submissions at findingconnectic
 ut.com\n\n[caption id="attachment_16083" align="alignnone" width="300"] sh
 op.findingconnecticut.com[/caption]\n\n 
ATTACH;FMTTYPE=image/jpeg:https://findingconnecticut.com/wp-content/upload
 s/2023/07/unnamed-82.jpg
CATEGORIES:Uncasville
LOCATION:Mohegan Sun\, 1 Mohegan Sun Blvd\, \, Uncasville\, \, Connecticut\
 , \, 06382\, New England \, United States
X-APPLE-STRUCTURED-LOCATION;VALUE=URI;X-ADDRESS=1 Mohegan Sun Blvd\, \, Unc
 asville\, \, Connecticut\, \, 06382\, New England \, United States;X-APPLE
 -RADIUS=100;X-TITLE=Mohegan Sun:geo:0,0
END:VEVENT
BEGIN:VTIMEZONE
TZID:America/New_York
X-LIC-LOCATION:America/New_York
BEGIN:DAYLIGHT
DTSTART:20230312T030000
TZOFFSETFROM:-0500
TZOFFSETTO:-0400
TZNAME:EDT
END:DAYLIGHT
END:VTIMEZONE
END:VCALENDAR