BEGIN:VCALENDAR
VERSION:2.0
PRODID:-//wp-events-plugin.com//7.2.3.1//EN
TZID:America/New_York
X-WR-TIMEZONE:America/New_York
BEGIN:VEVENT
UID:2203@findingconnecticut.com
DTSTART;TZID=America/New_York:20230817T170000
DTEND;TZID=America/New_York:20230817T193000
DTSTAMP:20230808T222227Z
URL:https://findingconnecticut.com/events/cats-crochet/
SUMMARY:Cats & Crochet
DESCRIPTION:Cats &amp\; Crochet\nAugust 17\, 2023 •  5 pm -7 pm\nFor mor
 e information click here \n To add an event please email us\, we monitor
  for spam. We need a photo\, description and website for each submission -
  We do not accept submissions that are within the next 3 days. submissions
  at findingconnecticut.com  \n\n[caption id="attachment_16083" align="al
 ignnone" width="300"] shop.findingconnecticut.com[/caption]
ATTACH;FMTTYPE=image/jpeg:https://findingconnecticut.com/wp-content/upload
 s/2023/08/Screenshot-2023-08-08-at-4.04.11-PM.png
CATEGORIES:Old Saybrook
LOCATION:All The Single Kitties\, 242 Main Street\, Old Saybrook \, Connect
 icut \, 06475\, New England \, United States
X-APPLE-STRUCTURED-LOCATION;VALUE=URI;X-ADDRESS=242 Main Street\, Old Saybr
 ook \, Connecticut \, 06475\, New England \, United States;X-APPLE-RADIUS=
 100;X-TITLE=All The Single Kitties:geo:0,0
END:VEVENT
BEGIN:VTIMEZONE
TZID:America/New_York
X-LIC-LOCATION:America/New_York
BEGIN:DAYLIGHT
DTSTART:20230312T030000
TZOFFSETFROM:-0500
TZOFFSETTO:-0400
TZNAME:EDT
END:DAYLIGHT
END:VTIMEZONE
END:VCALENDAR