BEGIN:VCALENDAR
VERSION:2.0
PRODID:-//wp-events-plugin.com//7.2.3.1//EN
TZID:America/New_York
X-WR-TIMEZONE:America/New_York
BEGIN:VEVENT
UID:183@findingconnecticut.com
DTSTART;TZID=America/New_York:20230719T193000
DTEND;TZID=America/New_York:20230719T223000
DTSTAMP:20230210T023725Z
URL:https://findingconnecticut.com/events/cake/
SUMMARY:Cake
DESCRIPTION:CAKE\nJuly 19\, 2023  • 7:30PM\n\nFor more information click
  here\nWestville Music Bowl\n45 Yale Avenue\nNew Haven\, Connecticut 06515
 \nTo add an event please email us\, we monitor for spam. We need a photo\,
  description and website for each submission - We do not accept submission
 s that are within the next 3 days. submissions@findingconnecticut.com\n\n\
 n[caption id="attachment_16083" align="alignnone" width="300"] shop.findin
 gconnecticut.com[/caption]
ATTACH;FMTTYPE=image/jpeg:https://findingconnecticut.com/wp-content/upload
 s/2023/02/Screenshot-2023-02-07-at-12.31.12-PM.png
CATEGORIES:New Haven
LOCATION:Westville Music Bowl\, 45 Yale Ave\,\, New Haven\, \, Connecticut\
 , \, 06515\, New England\, \, United States
X-APPLE-STRUCTURED-LOCATION;VALUE=URI;X-ADDRESS=45 Yale Ave\,\, New Haven\,
  \, Connecticut\, \, 06515\, New England\, \, United States;X-APPLE-RADIUS
 =100;X-TITLE=Westville Music Bowl:geo:0,0
END:VEVENT
BEGIN:VTIMEZONE
TZID:America/New_York
X-LIC-LOCATION:America/New_York
BEGIN:DAYLIGHT
DTSTART:20230312T030000
TZOFFSETFROM:-0500
TZOFFSETTO:-0400
TZNAME:EDT
END:DAYLIGHT
END:VTIMEZONE
END:VCALENDAR