BEGIN:VCALENDAR
VERSION:2.0
PRODID:-//wp-events-plugin.com//7.2.3.1//EN
TZID:America/New_York
X-WR-TIMEZONE:America/New_York
BEGIN:VEVENT
UID:175@findingconnecticut.com
DTSTART;TZID=America/New_York:20230611T193000
DTEND;TZID=America/New_York:20230611T223000
DTSTAMP:20230201T164215Z
URL:https://findingconnecticut.com/events/bryan-adams-with-joan-jett/
SUMMARY:Bryan Adams with Joan Jett
DESCRIPTION:Bryan Adams with Joan Jett &amp\; the Blackhearts \nJune 11\,
  2023  • 7:30 PM\n\nFor more information click here \nMohegan Sun \n1
  Mohegan Sun Blvd.\nUncasville\, CT 06382\nTo add an event please email us
 \, we monitor for spam. We need a photo\, description and website for each
  submission - We do not accept submissions that are within the next 3 days
 . submissions@findingconnecticut.com\n\n\n[caption id="attachment_16083" a
 lign="alignnone" width="300"] shop.findingconnecticut.com[/caption]
ATTACH;FMTTYPE=image/jpeg:https://findingconnecticut.com/wp-content/upload
 s/2023/02/unnamed-237-scaled.jpg
CATEGORIES:Uncasville
END:VEVENT
BEGIN:VTIMEZONE
TZID:America/New_York
X-LIC-LOCATION:America/New_York
BEGIN:DAYLIGHT
DTSTART:20230312T030000
TZOFFSETFROM:-0500
TZOFFSETTO:-0400
TZNAME:EDT
END:DAYLIGHT
END:VTIMEZONE
END:VCALENDAR