BEGIN:VCALENDAR
VERSION:2.0
PRODID:-//wp-events-plugin.com//7.2.3.1//EN
TZID:America/New_York
X-WR-TIMEZONE:America/New_York
BEGIN:VEVENT
UID:67@findingconnecticut.com
DTSTART;TZID=America/New_York:20230604T130000
DTEND;TZID=America/New_York:20230604T160000
DTSTAMP:20230130T050911Z
URL:https://findingconnecticut.com/events/bridal-wedding-expo/
SUMMARY:Bridal & Wedding Expo
DESCRIPTION:Bridal &amp\; Wedding Expo\nJune 4\, 2023 •  1 - 4 PM\n\nFor
  more information click here \nXL Center\n1 Civic Center Plaza\nHartford\
 , CT 06103\nTo add an event please email us\, we monitor for spam. We need
  a photo\, description and website for each submission - We do not accept 
 submissions that are within the next 3 days. submissions@findingconnecticu
 t.com\n\n\n[caption id="attachment_16083" align="alignnone" width="300"] s
 hop.findingconnecticut.com[/caption]
ATTACH;FMTTYPE=image/jpeg:https://findingconnecticut.com/wp-content/upload
 s/2023/01/Screenshot-2023-01-30-at-12.07.24-AM.png
CATEGORIES:Hartford
LOCATION:People'sBank Arena\, 1 Civic Center Plaza\, Hartford\,  CT \, 0610
 3\, New England\, \, United States
X-APPLE-STRUCTURED-LOCATION;VALUE=URI;X-ADDRESS=1 Civic Center Plaza\, Hart
 ford\,  CT \, 06103\, New England\, \, United States;X-APPLE-RADIUS=100;X-
 TITLE=People'sBank Arena:geo:0,0
END:VEVENT
BEGIN:VTIMEZONE
TZID:America/New_York
X-LIC-LOCATION:America/New_York
BEGIN:DAYLIGHT
DTSTART:20230312T030000
TZOFFSETFROM:-0500
TZOFFSETTO:-0400
TZNAME:EDT
END:DAYLIGHT
END:VTIMEZONE
END:VCALENDAR