BEGIN:VCALENDAR
VERSION:2.0
PRODID:-//wp-events-plugin.com//7.2.3.1//EN
TZID:America/New_York
X-WR-TIMEZONE:America/New_York
BEGIN:VEVENT
UID:181@findingconnecticut.com
DTSTART;TZID=America/New_York:20230219T193000
DTEND;TZID=America/New_York:20230219T223000
DTSTAMP:20230209T225355Z
URL:https://findingconnecticut.com/events/breabach/
SUMMARY:Breabach
DESCRIPTION:Breabach\nFebruary 19\, 2023 • 7:30 PM\n\nClick here for more
  information \nThe Katherine Hepburn Cultural Arts Center\n300 Main Stree
 t\nOld Saybrook\, CT 06475\n\n\nTo add an event please email us\, we monit
 or for spam. We need a photo\, description and website for each submission
  - We do not accept submissions that are within the next 3 days. submissio
 ns@findingconnecticut.com\n\n\n\n\n[caption id="attachment_16083" align="a
 lignnone" width="300"] shop.findingconnecticut.com[/caption]\n\n\n\n\n&nbs
 p\;
ATTACH;FMTTYPE=image/jpeg:https://findingconnecticut.com/wp-content/upload
 s/2023/02/image002-9.jpg
CATEGORIES:Old Saybrook
LOCATION:The Katherine Hepburn Culture Arts Center\, 300 Main Street\, \, O
 ld Saybrook\, \, Connecticut \, 06475\, New England \, United States
X-APPLE-STRUCTURED-LOCATION;VALUE=URI;X-ADDRESS=300 Main Street\, \, Old Sa
 ybrook\, \, Connecticut \, 06475\, New England \, United States;X-APPLE-RA
 DIUS=100;X-TITLE=The Katherine Hepburn Culture Arts Center:geo:0,0
END:VEVENT
BEGIN:VTIMEZONE
TZID:America/New_York
X-LIC-LOCATION:America/New_York
BEGIN:STANDARD
DTSTART:20221106T010000
TZOFFSETFROM:-0400
TZOFFSETTO:-0500
TZNAME:EST
END:STANDARD
END:VTIMEZONE
END:VCALENDAR