BEGIN:VCALENDAR
VERSION:2.0
PRODID:-//wp-events-plugin.com//7.2.3.1//EN
TZID:America/New_York
X-WR-TIMEZONE:America/New_York
BEGIN:VEVENT
UID:13217@findingconnecticut.com
DTSTART;TZID=America/New_York:20260301T200000
DTEND;TZID=America/New_York:20260301T223000
DTSTAMP:20251019T134354Z
URL:https://findingconnecticut.com/events/boy-george-mohegan-sun-march-1-2
 025/
SUMMARY:Boy George
DESCRIPTION:Boy George\nMarch 1\, 2026  •  8:00pm\n\n Click here for m
 ore information \n\n Mohegan Sun \n1 Mohegan Sun Blvd.\nUncasville\, CT
  06382\n\nClick here for more information about submitting events. \n\n 
 Click here to return to Finding Connecticut's home page\n\n[caption id="at
 tachment_16083" align="alignnone" width="300"] shop.findingconnecticut.com
 [/caption]
ATTACH;FMTTYPE=image/jpeg:https://findingconnecticut.com/wp-content/upload
 s/2025/10/vcsPRAsset_2929240_174241_f7dd7cd0-d5e9-422f-8dfe-6cbfee7f0314_0
 .jpg
CATEGORIES:Uncasville
LOCATION:Mohegan Sun\, 1 Mohegan Sun Blvd\, \, Uncasville\, \, Connecticut\
 , \, 06382\, New England \, United States
X-APPLE-STRUCTURED-LOCATION;VALUE=URI;X-ADDRESS=1 Mohegan Sun Blvd\, \, Unc
 asville\, \, Connecticut\, \, 06382\, New England \, United States;X-APPLE
 -RADIUS=100;X-TITLE=Mohegan Sun:geo:0,0
END:VEVENT
BEGIN:VTIMEZONE
TZID:America/New_York
X-LIC-LOCATION:America/New_York
BEGIN:STANDARD
DTSTART:20251102T010000
TZOFFSETFROM:-0400
TZOFFSETTO:-0500
TZNAME:EST
END:STANDARD
END:VTIMEZONE
END:VCALENDAR