BEGIN:VCALENDAR
VERSION:2.0
PRODID:-//wp-events-plugin.com//7.2.3.1//EN
TZID:America/New_York
X-WR-TIMEZONE:America/New_York
BEGIN:VEVENT
UID:2945@findingconnecticut.com
DTSTART;TZID=America/New_York:20240114T150000
DTEND;TZID=America/New_York:20240114T193000
DTSTAMP:20231010T173041Z
URL:https://findingconnecticut.com/events/bowzers-rock-n-doo-wop-party-vol
 ume-xxii/
SUMMARY:Bowzer’s Rock ‘N’ Doo-Wop Party Volume XXII
DESCRIPTION:Bowzer’s Rock ‘N’ Doo-Wop Party Volume XXII\nJanuary 14\,
  2024  • 3 pm\n\n Click here for more information \n Mohegan Sun \n
 1 Mohegan Sun Blvd.\nUncasville\, CT 06382\n To add an event please email
  us\, we monitor for spam. We need a photo\, description and website for e
 ach submission - We do not accept submissions that are within the next 3 d
 ays. submissions@findingconnecticut.com\n\n\n[caption id="attachment_16083
 " align="alignnone" width="300"] shop.findingconnecticut.com[/caption]
ATTACH;FMTTYPE=image/jpeg:https://findingconnecticut.com/wp-content/upload
 s/2023/10/bowzerpreview-scaled.jpg
CATEGORIES:Uncasville
LOCATION:Mohegan Sun\, 1 Mohegan Sun Blvd\, \, Uncasville\, \, Connecticut\
 , \, 06382\, New England \, United States
X-APPLE-STRUCTURED-LOCATION;VALUE=URI;X-ADDRESS=1 Mohegan Sun Blvd\, \, Unc
 asville\, \, Connecticut\, \, 06382\, New England \, United States;X-APPLE
 -RADIUS=100;X-TITLE=Mohegan Sun:geo:0,0
END:VEVENT
BEGIN:VTIMEZONE
TZID:America/New_York
X-LIC-LOCATION:America/New_York
BEGIN:STANDARD
DTSTART:20231105T010000
TZOFFSETFROM:-0400
TZOFFSETTO:-0500
TZNAME:EST
END:STANDARD
END:VTIMEZONE
END:VCALENDAR