BEGIN:VCALENDAR
VERSION:2.0
PRODID:-//wp-events-plugin.com//7.2.3.1//EN
TZID:America/New_York
X-WR-TIMEZONE:America/New_York
BEGIN:VEVENT
UID:1282@findingconnecticut.com
DTSTART;TZID=America/New_York:20230602T170000
DTEND;TZID=America/New_York:20230602T200000
DTSTAMP:20230520T204841Z
URL:https://findingconnecticut.com/events/book-talk-with-erik-hesselberg/
SUMMARY:Book Talk with Erik Hesselberg
DESCRIPTION:Book Talk with Erik Hesselberg\nJune 2\, 2023 • 5 -8 pm\n\nCl
 ick here for more informaiton \n\n Leif Nilsson Spring Street Studio and
  Gallery\n1 Spring Street\nChester\, CT 06412\n\nTo add an event please em
 ail us\, we monitor for spam. We need a photo\, description and website fo
 r each submission - We do not accept submissions that are within the next 
 3 days. submissions at findingconnecticut.com  
ATTACH;FMTTYPE=image/jpeg:https://findingconnecticut.com/wp-content/upload
 s/2023/05/unnamed-6.jpg
CATEGORIES:Chester
LOCATION:Leif Nilsson Spring Street Studio and Gallery\,  1 Spring Street\,
  Chester\, Connecticut\, 06412\, New England\, United States
X-APPLE-STRUCTURED-LOCATION;VALUE=URI;X-ADDRESS= 1 Spring Street\, Chester\
 , Connecticut\, 06412\, New England\, United States;X-APPLE-RADIUS=100;X-T
 ITLE=Leif Nilsson Spring Street Studio and Gallery:geo:0,0
END:VEVENT
BEGIN:VTIMEZONE
TZID:America/New_York
X-LIC-LOCATION:America/New_York
BEGIN:DAYLIGHT
DTSTART:20230312T030000
TZOFFSETFROM:-0500
TZOFFSETTO:-0400
TZNAME:EDT
END:DAYLIGHT
END:VTIMEZONE
END:VCALENDAR