BEGIN:VCALENDAR
VERSION:2.0
PRODID:-//wp-events-plugin.com//7.2.3.1//EN
TZID:America/New_York
X-WR-TIMEZONE:America/New_York
BEGIN:VEVENT
UID:1814@findingconnecticut.com
DTSTART;TZID=America/New_York:20230729T140000
DTEND;TZID=America/New_York:20230729T160000
DTSTAMP:20230702T202519Z
URL:https://findingconnecticut.com/events/book-talk-and-signing-with-marth
 a-donegan/
SUMMARY:Book talk and signing with Martha Donegan
DESCRIPTION:Book talk and signing with Martha Donegan\nJuly 29\, 2023 • 2
  PM\nClick here for more information \n\nTo add an event please email us\
 , we monitor for spam. We need a photo\, description and website for each 
 submission - We do not accept submissions that are within the next 3 days.
  submissions at findingconnecticut.com  \n\n[caption id="attachment_1608
 3" align="alignnone" width="300"] shop.findingconnecticut.com[/caption]
ATTACH;FMTTYPE=image/jpeg:https://findingconnecticut.com/wp-content/upload
 s/2023/07/katrinawedding_orig.jpg
CATEGORIES:Cornwall
END:VEVENT
BEGIN:VTIMEZONE
TZID:America/New_York
X-LIC-LOCATION:America/New_York
BEGIN:DAYLIGHT
DTSTART:20230312T030000
TZOFFSETFROM:-0500
TZOFFSETTO:-0400
TZNAME:EDT
END:DAYLIGHT
END:VTIMEZONE
END:VCALENDAR