BEGIN:VCALENDAR
VERSION:2.0
PRODID:-//wp-events-plugin.com//7.2.3.1//EN
TZID:America/New_York
X-WR-TIMEZONE:America/New_York
BEGIN:VEVENT
UID:14952@findingconnecticut.com
DTSTART;TZID=America/New_York:20260719T190000
DTEND;TZID=America/New_York:20260719T223000
DTSTAMP:20260421T115305Z
URL:https://findingconnecticut.com/events/bob-dylan-hartford-healthcare-am
 p-bridgeport-ct-july-19-2025/
SUMMARY:Bob Dylan
DESCRIPTION:Bob Dylan\nJuly 19\, 2026\n\nClick here for more information \
 n\n Hartford Healthcare Amphitheater\n 500 Broad Street\n Bridgeport\, 
 CT 06604\n\n Click here to return to Finding Connecticut's home page\nAs 
 of March 2025\, all event listings require payment.\nTo submit your event\
 , please send the event details along with a photo and/or logo to submissi
 ons at findingconnecticut dot com. You can complete your payment here\nYo
 ur event will be published within 24 hours after both payment and all requ
 ired information have been received.\nWe offer discounts for multiple even
 t listings.\nThank you for supporting Finding Connecticut—your particip
 ation helps us grow our website and brand.\n\n\n[caption id="attachment_16
 083" align="alignnone" width="300"] shop.findingconnecticut.com[/caption]
ATTACH;FMTTYPE=image/jpeg:https://findingconnecticut.com/wp-content/upload
 s/2026/04/Bob_Dylan_Carol_Friedman.jpg
CATEGORIES:Bridgeport
LOCATION:Hartford HealthCare Amphitheater\, 500 Broad St\, \, Bridgeport\, 
 \, Connecticut\, \, 06604\,\, New England\, \, United States
X-APPLE-STRUCTURED-LOCATION;VALUE=URI;X-ADDRESS=500 Broad St\, \, Bridgepor
 t\, \, Connecticut\, \, 06604\,\, New England\, \, United States;X-APPLE-R
 ADIUS=100;X-TITLE=Hartford HealthCare Amphitheater:geo:0,0
END:VEVENT
BEGIN:VTIMEZONE
TZID:America/New_York
X-LIC-LOCATION:America/New_York
BEGIN:DAYLIGHT
DTSTART:20260308T030000
TZOFFSETFROM:-0500
TZOFFSETTO:-0400
TZNAME:EDT
END:DAYLIGHT
END:VTIMEZONE
END:VCALENDAR