BEGIN:VCALENDAR
VERSION:2.0
PRODID:-//wp-events-plugin.com//7.2.3.1//EN
TZID:America/New_York
X-WR-TIMEZONE:America/New_York
BEGIN:VEVENT
UID:1999@findingconnecticut.com
DTSTART;TZID=America/New_York:20231028T200000
DTEND;TZID=America/New_York:20231028T223000
DTSTAMP:20230720T172612Z
URL:https://findingconnecticut.com/events/blippi-the-wonderful-world-tour/
SUMMARY:Blippi: The Wonderful World Tour
DESCRIPTION:Blippi: The Wonderful World Tour\nOctober 28 2023 at 8 pm\n Cl
 ick here for more information \n\n The Palace Theatre\n61 Atlantic Stree
 t\nStamford\, Connecticut 06901\n\nTo add an event please email us\, we mo
 nitor for spam. We need a photo\, description and website for each submiss
 ion - We do not accept submissions that are within the next 3 days. submis
 sions at findingconnecticut.com  \n\n[caption id="attachment_16083" alig
 n="alignnone" width="300"] shop.findingconnecticut.com[/caption]
ATTACH;FMTTYPE=image/jpeg:https://findingconnecticut.com/wp-content/upload
 s/2023/07/Blippi2023-Feature.jpg
CATEGORIES:Stamford
LOCATION:The Palace\, 61 Atlantic Street\, Stamford \, Connecticut \, 06901
 \, New England\, United States
X-APPLE-STRUCTURED-LOCATION;VALUE=URI;X-ADDRESS=61 Atlantic Street\, Stamfo
 rd \, Connecticut \, 06901\, New England\, United States;X-APPLE-RADIUS=10
 0;X-TITLE=The Palace:geo:0,0
END:VEVENT
BEGIN:VTIMEZONE
TZID:America/New_York
X-LIC-LOCATION:America/New_York
BEGIN:DAYLIGHT
DTSTART:20230312T030000
TZOFFSETFROM:-0500
TZOFFSETTO:-0400
TZNAME:EDT
END:DAYLIGHT
END:VTIMEZONE
END:VCALENDAR