BEGIN:VCALENDAR
VERSION:2.0
PRODID:-//wp-events-plugin.com//7.2.3.1//EN
TZID:America/New_York
X-WR-TIMEZONE:America/New_York
BEGIN:VEVENT
UID:5821@findingconnecticut.com
DTSTART;TZID=America/New_York:20240623T200000
DTEND;TZID=America/New_York:20240623T220000
DTSTAMP:20240429T163217Z
URL:https://findingconnecticut.com/events/blackmores-night/
SUMMARY:Blackmore’s Night
DESCRIPTION:Blackmore’s Night\nJune 23 2024\n\n Click here for more info
 rmation \n\nDistrict Music Hall\n71 Wall Street\nNorwalk\, Connecticut 06
 850\n\nTo add an event please email us\, we monitor for spam. We need a ph
 oto\, description and website for each submission - We do not accept submi
 ssions that are within the next 3 days. submissions at findingconnecticut.
 com\n\n[caption id="attachment_16083" align="alignnone" width="300"] shop.
 findingconnecticut.com[/caption]
ATTACH;FMTTYPE=image/jpeg:https://findingconnecticut.com/wp-content/upload
 s/2024/03/Screenshot-2024-03-25-at-7.54.28 PM.png
CATEGORIES:Norwalk
LOCATION:District Music Hall\, 71 Wall Street\, Norwalk\, Connecticut \, 06
 850\, New England \, United States
X-APPLE-STRUCTURED-LOCATION;VALUE=URI;X-ADDRESS=71 Wall Street\, Norwalk\, 
 Connecticut \, 06850\, New England \, United States;X-APPLE-RADIUS=100;X-T
 ITLE=District Music Hall:geo:0,0
END:VEVENT
BEGIN:VTIMEZONE
TZID:America/New_York
X-LIC-LOCATION:America/New_York
BEGIN:DAYLIGHT
DTSTART:20240310T030000
TZOFFSETFROM:-0500
TZOFFSETTO:-0400
TZNAME:EDT
END:DAYLIGHT
END:VTIMEZONE
END:VCALENDAR