BEGIN:VCALENDAR
VERSION:2.0
PRODID:-//wp-events-plugin.com//7.2.3.1//EN
TZID:America/New_York
X-WR-TIMEZONE:America/New_York
BEGIN:VEVENT
UID:332@findingconnecticut.com
DTSTART;TZID=America/New_York:20230225T133000
DTEND;TZID=America/New_York:20230225T163000
DTSTAMP:20230215T205041Z
URL:https://findingconnecticut.com/events/black-maritime-excellence-reclai
 ming-afro-atlantic-dialogues/
SUMMARY:Black Maritime Excellence: Reclaiming Afro-Atlantic Dialogues
DESCRIPTION:Black Maritime Excellence: Reclaiming Afro-Atlantic Dialogues\n
 February 25\, 2023 •  1:30 PM - 4:30 PM\n\nClick here for more informat
 ion \n\nMystic Seaport Museum\n75 Greenmanville Ave\nMystic\, CT 06355\nT
 o add an event please email us\, we monitor for spam. We need a photo\, de
 scription and website for each submission - We do not accept submissions t
 hat are within the next 3 days. submissions@findingconnecticut.com\n\n\n[c
 aption id="attachment_16083" align="alignnone" width="300"] shop.findingco
 nnecticut.com[/caption]
ATTACH;FMTTYPE=image/jpeg:https://findingconnecticut.com/wp-content/upload
 s/2023/02/unnamed-6.jpg
CATEGORIES:Mystic
LOCATION:Mystic Seaport Museum\, 75 Greenmanville Ave\, Mystic \, Connectic
 ut \, 06355\, United States
X-APPLE-STRUCTURED-LOCATION;VALUE=URI;X-ADDRESS=75 Greenmanville Ave\, Myst
 ic \, Connecticut \, 06355\, United States;X-APPLE-RADIUS=100;X-TITLE=Myst
 ic Seaport Museum:geo:0,0
END:VEVENT
BEGIN:VTIMEZONE
TZID:America/New_York
X-LIC-LOCATION:America/New_York
BEGIN:STANDARD
DTSTART:20221106T010000
TZOFFSETFROM:-0400
TZOFFSETTO:-0500
TZNAME:EST
END:STANDARD
END:VTIMEZONE
END:VCALENDAR