BEGIN:VCALENDAR
VERSION:2.0
PRODID:-//wp-events-plugin.com//7.2.3.1//EN
TZID:America/New_York
X-WR-TIMEZONE:America/New_York
BEGIN:VEVENT
UID:5838@findingconnecticut.com
DTSTART;TZID=America/New_York:20240511T080000
DTEND;TZID=America/New_York:20240511T120000
DTSTAMP:20240504T221308Z
URL:https://findingconnecticut.com/events/birds-binoculars/
SUMMARY:Birds & Binoculars
DESCRIPTION:Birds &amp\; Binoculars\nMay 11\,  2024\n\nClick here for mor
 e information \n\nTo add an event please email us\, we monitor for spam. 
 We need a photo\, description and website for each submission - We do not 
 accept submissions that are within the next 3 days. submissions@findingcon
 necticut.com\n\n[caption id="attachment_16083" align="alignnone" width="30
 0"] shop.findingconnecticut.com[/caption]
ATTACH;FMTTYPE=image/jpeg:https://findingconnecticut.com/wp-content/upload
 s/2024/05/Birds-binoculars-2024.png
CATEGORIES:Wilton
END:VEVENT
BEGIN:VTIMEZONE
TZID:America/New_York
X-LIC-LOCATION:America/New_York
BEGIN:DAYLIGHT
DTSTART:20240310T030000
TZOFFSETFROM:-0500
TZOFFSETTO:-0400
TZNAME:EDT
END:DAYLIGHT
END:VTIMEZONE
END:VCALENDAR