BEGIN:VCALENDAR
VERSION:2.0
PRODID:-//wp-events-plugin.com//7.2.3.1//EN
TZID:America/New_York
X-WR-TIMEZONE:America/New_York
BEGIN:VEVENT
UID:14454@findingconnecticut.com
DTSTART;TZID=America/New_York:20260314T200000
DTEND;TZID=America/New_York:20260314T220000
DTSTAMP:20260301T182558Z
URL:https://findingconnecticut.com/events/bingo-loco-district-music-hall-n
 orwalk-ct-march-14-2026/
SUMMARY:Bingo Loco
DESCRIPTION:Bingo Loco\nMarch 14\, 2026\n\n Click here for more informatio
 n \n\nDistrict Music Hall\n71 Wall Street\nNorwalk\, Connecticut 06850\nA
 s of March 2025\, all event listings require payment.\nTo submit your even
 t\, please send the event details along with a photo and/or logo to submis
 sions at findingconnecticut dot com. You can complete your payment here\n
 Your event will be published within 24 hours after both payment and all re
 quired information have been received.\nWe offer discounts for multiple ev
 ent listings.\nThank you for supporting Finding Connecticut—your partic
 ipation helps us grow our website and brand.\n\n\n[caption id="attachment_
 16083" align="alignnone" width="300"] shop.findingconnecticut.com[/caption
 ]
ATTACH;FMTTYPE=image/jpeg:https://findingconnecticut.com/wp-content/upload
 s/2024/03/District-Music-Hall-Outside-1.jpg
CATEGORIES:Norwalk
LOCATION:District Music Hall\, 71 Wall Street\, Norwalk\, Connecticut \, 06
 850\, New England \, United States
X-APPLE-STRUCTURED-LOCATION;VALUE=URI;X-ADDRESS=71 Wall Street\, Norwalk\, 
 Connecticut \, 06850\, New England \, United States;X-APPLE-RADIUS=100;X-T
 ITLE=District Music Hall:geo:0,0
END:VEVENT
BEGIN:VTIMEZONE
TZID:America/New_York
X-LIC-LOCATION:America/New_York
BEGIN:DAYLIGHT
DTSTART:20260308T030000
TZOFFSETFROM:-0500
TZOFFSETTO:-0400
TZNAME:EDT
END:DAYLIGHT
END:VTIMEZONE
END:VCALENDAR