BEGIN:VCALENDAR
VERSION:2.0
PRODID:-//wp-events-plugin.com//7.2.3.1//EN
TZID:America/New_York
X-WR-TIMEZONE:America/New_York
BEGIN:VEVENT
UID:239@findingconnecticut.com
DTSTART;TZID=America/New_York:20230721T193000
DTEND;TZID=America/New_York:20230721T223000
DTSTAMP:20230213T181233Z
URL:https://findingconnecticut.com/events/billy-strings/
SUMMARY:Billy Strings
DESCRIPTION:Billy Strings\nJuly 21\, 2023 • 7:30 PM\n\nFor more informati
 on click here \nHartford Healthcare Amphitheater\n500 Broad Street\nBridg
 eport\, CT 06604\n\n\n[caption id="attachment_16083" align="alignnone" wid
 th="300"] shop.findingconnecticut.com[/caption]
ATTACH;FMTTYPE=image/jpeg:https://findingconnecticut.com/wp-content/upload
 s/2023/02/BillyStrings_AG_197c-scaled.jpg
CATEGORIES:Bridgeport
LOCATION:Hartford HealthCare Amphitheater\, 500 Broad St\, \, Bridgeport\, 
 \, Connecticut\, \, 06604\,\, New England\, \, United States
X-APPLE-STRUCTURED-LOCATION;VALUE=URI;X-ADDRESS=500 Broad St\, \, Bridgepor
 t\, \, Connecticut\, \, 06604\,\, New England\, \, United States;X-APPLE-R
 ADIUS=100;X-TITLE=Hartford HealthCare Amphitheater:geo:0,0
END:VEVENT
BEGIN:VTIMEZONE
TZID:America/New_York
X-LIC-LOCATION:America/New_York
BEGIN:DAYLIGHT
DTSTART:20230312T030000
TZOFFSETFROM:-0500
TZOFFSETTO:-0400
TZNAME:EDT
END:DAYLIGHT
END:VTIMEZONE
END:VCALENDAR