BEGIN:VCALENDAR
VERSION:2.0
PRODID:-//wp-events-plugin.com//7.2.3.1//EN
TZID:America/New_York
X-WR-TIMEZONE:America/New_York
BEGIN:VEVENT
UID:14439@findingconnecticut.com
DTSTART;TZID=America/New_York:20260728T190000
DTEND;TZID=America/New_York:20260728T220000
DTSTAMP:20260227T021210Z
URL:https://findingconnecticut.com/events/billy-strings-peoplesbank-arena-
 hartford-ct-july-28-2026/
SUMMARY:Billy Strings
DESCRIPTION:Billy Strings\nJuly 28\, 2026  •  7 PM\n\nClick here for mo
 re information\n\nPeoplesbank Arena\n1 Civic Center Plaza\nHartford\, CT 0
 6103\n\n&nbsp\;
ATTACH;FMTTYPE=image/jpeg:https://findingconnecticut.com/wp-content/upload
 s/2026/01/image-2-1.png
CATEGORIES:Hartford
LOCATION:People'sBank Arena\, 1 Civic Center Plaza\, Hartford\,  CT \, 0610
 3\, New England\, \, United States
X-APPLE-STRUCTURED-LOCATION;VALUE=URI;X-ADDRESS=1 Civic Center Plaza\, Hart
 ford\,  CT \, 06103\, New England\, \, United States;X-APPLE-RADIUS=100;X-
 TITLE=People'sBank Arena:geo:0,0
END:VEVENT
BEGIN:VTIMEZONE
TZID:America/New_York
X-LIC-LOCATION:America/New_York
BEGIN:DAYLIGHT
DTSTART:20260308T030000
TZOFFSETFROM:-0500
TZOFFSETTO:-0400
TZNAME:EDT
END:DAYLIGHT
END:VTIMEZONE
END:VCALENDAR