BEGIN:VCALENDAR
VERSION:2.0
PRODID:-//wp-events-plugin.com//7.2.3.1//EN
TZID:America/New_York
X-WR-TIMEZONE:America/New_York
BEGIN:VEVENT
UID:14717@findingconnecticut.com
DTSTART;TZID=America/New_York:20260410T190000
DTEND;TZID=America/New_York:20260410T203000
DTSTAMP:20260309T153332Z
URL:https://findingconnecticut.com/events/beau-mcdowell-his-more-successfu
 l-friends-new-york-comedy-club-stamford-april-10-2026/
SUMMARY:Beau McDowell & His More Successful Friends
DESCRIPTION:Beau McDowell &amp\; His More Successful Friends\nApril 10\, 20
 26  •  7 pm\n\n Click here for more information \n\nNew York Comedy 
 Club Stamford \n230 Tresser Blvd\nStamford\, CT 06901\n\n Click here to r
 eturn to Finding Connecticut's home page\nAs of March 2025\, all event lis
 tings require payment.\nTo submit your event\, please send the event detai
 ls along with a photo and/or logo to submissions at findingconnecticut dot
  com. You can complete your payment here\nYour event will be published wi
 thin 24 hours after both payment and all required information have been re
 ceived.\nWe offer discounts for multiple event listings.\nThank you for su
 pporting Finding Connecticut—your participation helps us grow our websi
 te and brand.\n(We do not publish any content that has to do with areas ou
 tside of Connecticut. If you are looking to post on our Hudson Valley or N
 ew York City pages\, then contact us via email.)\n\n\n[caption id="attachm
 ent_16083" align="alignnone" width="300"] shop.findingconnecticut.com[/cap
 tion]
ATTACH;FMTTYPE=image/jpeg:https://findingconnecticut.com/wp-content/upload
 s/2026/03/67eb3c7e-c7d4-1774-f2ab-6abe8fd86238.jpg
CATEGORIES:Stamford
LOCATION:New York Comedy Club Stamford\, 230 Tresser Blvd\, Stamford\, CT\,
  06901\, New England\, United States
X-APPLE-STRUCTURED-LOCATION;VALUE=URI;X-ADDRESS=230 Tresser Blvd\, Stamford
 \, CT\, 06901\, New England\, United States;X-APPLE-RADIUS=100;X-TITLE=New
  York Comedy Club Stamford:geo:0,0
END:VEVENT
BEGIN:VTIMEZONE
TZID:America/New_York
X-LIC-LOCATION:America/New_York
BEGIN:DAYLIGHT
DTSTART:20260308T030000
TZOFFSETFROM:-0500
TZOFFSETTO:-0400
TZNAME:EDT
END:DAYLIGHT
END:VTIMEZONE
END:VCALENDAR