BEGIN:VCALENDAR
VERSION:2.0
PRODID:-//wp-events-plugin.com//7.2.3.1//EN
TZID:America/New_York
X-WR-TIMEZONE:America/New_York
BEGIN:VEVENT
UID:1811@findingconnecticut.com
DTSTART;TZID=America/New_York:20231027T170000
DTEND;TZID=America/New_York:20231027T200000
DTSTAMP:20231023T134831Z
URL:https://findingconnecticut.com/events/be-revolutionary/
SUMMARY:Halloween Strut
DESCRIPTION:Halloween Strut\n October 27\, 2023 • 5 pm - 8 pm\nClick her
 e for more information \n\nTo add an event please email us\, we monitor f
 or spam. We need a photo\, description and website for each submission - W
 e do not accept submissions that are within the next 3 days. submissions a
 t findingconnecticut.com  \n\n[caption id="attachment_16083" align="alig
 nnone" width="300"] shop.findingconnecticut.com[/caption]\n\n&nbsp\;
ATTACH;FMTTYPE=image/jpeg:https://findingconnecticut.com/wp-content/upload
 s/2023/10/unnamed-22.png
CATEGORIES:Norwich
LOCATION:Leffingwell House Museum\, 348 Washington St\,\, Norwich\, Connect
 icut \, 06360-2444\, New England \, United States
X-APPLE-STRUCTURED-LOCATION;VALUE=URI;X-ADDRESS=348 Washington St\,\, Norwi
 ch\, Connecticut \, 06360-2444\, New England \, United States;X-APPLE-RADI
 US=100;X-TITLE=Leffingwell House Museum:geo:0,0
END:VEVENT
BEGIN:VTIMEZONE
TZID:America/New_York
X-LIC-LOCATION:America/New_York
BEGIN:DAYLIGHT
DTSTART:20230312T030000
TZOFFSETFROM:-0500
TZOFFSETTO:-0400
TZNAME:EDT
END:DAYLIGHT
END:VTIMEZONE
END:VCALENDAR