BEGIN:VCALENDAR
VERSION:2.0
PRODID:-//wp-events-plugin.com//7.2.3.1//EN
TZID:America/New_York
X-WR-TIMEZONE:America/New_York
BEGIN:VEVENT
UID:2333@findingconnecticut.com
DTSTART;TZID=America/New_York:20230824T110000
DTEND;TZID=America/New_York:20230824T140000
DTSTAMP:20230819T015859Z
URL:https://findingconnecticut.com/events/barnum-museum-to-receive-nationa
 l-historical-landmark-designation/
SUMMARY:Barnum Museum to receive National Historical Landmark designation
DESCRIPTION:Barnum Museum to receive National Historical Landmark designati
 on\nAugust 24\, 2023 • 11 am - 2 pm\n Click here for more information\n
 \n Barnum Museum\n820 Main Street\nBridgeport\, Connecticut 06604\n\nTo a
 dd an event please email us\, we monitor for spam. We need a photo\, descr
 iption and website for each submission - We do not accept submissions that
  are within the next 3 days. submissions at findingconnecticut.com\n\n[cap
 tion id="attachment_16083" align="alignnone" width="300"] shop.findingconn
 ecticut.com[/caption]\n\n \n\n&nbsp\;
ATTACH;FMTTYPE=image/jpeg:https://findingconnecticut.com/wp-content/upload
 s/2023/08/IMG_5805-scaled.jpg
CATEGORIES:Bridgeport
LOCATION:Barnum Museum\, 820 Main Street\, Bridgeport\, Connecticut \, 0660
 4\, New England \, United States
X-APPLE-STRUCTURED-LOCATION;VALUE=URI;X-ADDRESS=820 Main Street\, Bridgepor
 t\, Connecticut \, 06604\, New England \, United States;X-APPLE-RADIUS=100
 ;X-TITLE=Barnum Museum:geo:0,0
END:VEVENT
BEGIN:VTIMEZONE
TZID:America/New_York
X-LIC-LOCATION:America/New_York
BEGIN:DAYLIGHT
DTSTART:20230312T030000
TZOFFSETFROM:-0500
TZOFFSETTO:-0400
TZNAME:EDT
END:DAYLIGHT
END:VTIMEZONE
END:VCALENDAR