BEGIN:VCALENDAR
VERSION:2.0
PRODID:-//wp-events-plugin.com//7.2.3.1//EN
TZID:America/New_York
X-WR-TIMEZONE:America/New_York
BEGIN:VEVENT
UID:1493@findingconnecticut.com
DTSTART;TZID=America/New_York:20230811T200000
DTEND;TZID=America/New_York:20230811T223000
DTSTAMP:20230609T224538Z
URL:https://findingconnecticut.com/events/bandstand-5/
SUMMARY:Bandstand
DESCRIPTION:Bandstand\nAugust 11\, 2023  • 8 PM\n\nClick here for more i
 nformation \n\n  Playhouse on Park\n244 Park Road\nWest Hartford\, CT 06
 119\n\nTo add an event please email us\, we monitor for spam. We need a ph
 oto\, description and website for each submission - We do not accept submi
 ssions that are within the next 3 days. submissions at findingconnecticut.
 com\n\n[caption id="attachment_16083" align="alignnone" width="300"] shop.
 findingconnecticut.com[/caption]\n\n 
ATTACH;FMTTYPE=image/jpeg:https://findingconnecticut.com/wp-content/upload
 s/2023/05/unnamed-2-2.jpg
CATEGORIES:West Hartford
LOCATION:Playhouse on Park\, 244 Park Road\, West Hartford \, Connecticut \
 , 06119\, New England \, United States
X-APPLE-STRUCTURED-LOCATION;VALUE=URI;X-ADDRESS=244 Park Road\, West Hartfo
 rd \, Connecticut \, 06119\, New England \, United States;X-APPLE-RADIUS=1
 00;X-TITLE=Playhouse on Park:geo:0,0
END:VEVENT
BEGIN:VTIMEZONE
TZID:America/New_York
X-LIC-LOCATION:America/New_York
BEGIN:DAYLIGHT
DTSTART:20230312T030000
TZOFFSETFROM:-0500
TZOFFSETTO:-0400
TZNAME:EDT
END:DAYLIGHT
END:VTIMEZONE
END:VCALENDAR