BEGIN:VCALENDAR
VERSION:2.0
PRODID:-//wp-events-plugin.com//7.2.3.1//EN
TZID:America/New_York
X-WR-TIMEZONE:America/New_York
BEGIN:VEVENT
UID:6171@findingconnecticut.com
DTSTART;TZID=America/New_York:20240907T200000
DTEND;TZID=America/New_York:20240907T223000
DTSTAMP:20240525T211647Z
URL:https://findingconnecticut.com/events/band-of-horses-city-and-colour/
SUMMARY:Band of Horses & City and Colour
DESCRIPTION:Band of Horses &amp\; City and Colour\nSeptember 7\, 2024\n\n 
  Click here for more information \n\n  College Street Music Hall\n238 C
 ollege Street\nNew Haven\, CT 06510\n\nClick here to return to Finding Con
 necticut's home page\n\nTo add an event please email us\, we monitor for s
 pam. We need a photo\, description and website for each submission - We do
  not accept submissions that are within the next 3 days. submissions at fi
 ndingconnecticut.com\n\n[caption id="attachment_16083" align="alignnone" w
 idth="300"] shop.findingconnecticut.com[/caption]
ATTACH;FMTTYPE=image/jpeg:https://findingconnecticut.com/wp-content/upload
 s/2024/05/https-cdn.evbuc_.com-images-772421399-313019821398-1-original.20
 240521-010107.jpeg
CATEGORIES:New Haven
LOCATION:College Street Music Hall\, 238 College St\, \, New Haven\, \, Con
 necticut \, 06510\, New England \, United States
X-APPLE-STRUCTURED-LOCATION;VALUE=URI;X-ADDRESS=238 College St\, \, New Hav
 en\, \, Connecticut \, 06510\, New England \, United States;X-APPLE-RADIUS
 =100;X-TITLE=College Street Music Hall:geo:0,0
END:VEVENT
BEGIN:VTIMEZONE
TZID:America/New_York
X-LIC-LOCATION:America/New_York
BEGIN:DAYLIGHT
DTSTART:20240310T030000
TZOFFSETFROM:-0500
TZOFFSETTO:-0400
TZNAME:EDT
END:DAYLIGHT
END:VTIMEZONE
END:VCALENDAR