BEGIN:VCALENDAR
VERSION:2.0
PRODID:-//wp-events-plugin.com//7.2.3.1//EN
TZID:America/New_York
X-WR-TIMEZONE:America/New_York
BEGIN:VEVENT
UID:1042@findingconnecticut.com
DTSTART;TZID=America/New_York;VALUE=DATE:20230714
DTEND;TZID=America/New_York;VALUE=DATE:20230715
DTSTAMP:20230502T234912Z
URL:https://findingconnecticut.com/events/back-to-the-80s-music-festival/
SUMMARY:“Back to the 80s” Music Festival
DESCRIPTION:Back to the 80's Music Festival\nJuly 14\, 2023\n\n Click here
  for more information \n\n Trinity Health Stadium\n250 Huyshope Ave\nHar
 tford\, CT 06106\n\nTo add an event please email us\, we monitor for spam.
  We need a photo\, description and website for each submission - We do not
  accept submissions that are within the next 3 days. submissions at findin
 gconnecticut.com  \n\n[caption id="attachment_16083" align="alignnone" w
 idth="300"] shop.findingconnecticut.com[/caption]
ATTACH;FMTTYPE=image/jpeg:https://findingconnecticut.com/wp-content/upload
 s/2023/05/495485075-both-concerts-1.jpg-1.webp
CATEGORIES:Hartford
LOCATION:Trinity Health Stadium\, 250 Huyshope Ave\, Hartford\, Connecticut
  \, 06106\, New England\, United States
X-APPLE-STRUCTURED-LOCATION;VALUE=URI;X-ADDRESS=250 Huyshope Ave\, Hartford
 \, Connecticut \, 06106\, New England\, United States;X-APPLE-RADIUS=100;X
 -TITLE=Trinity Health Stadium:geo:0,0
END:VEVENT
BEGIN:VTIMEZONE
TZID:America/New_York
X-LIC-LOCATION:America/New_York
BEGIN:DAYLIGHT
DTSTART:20230312T030000
TZOFFSETFROM:-0500
TZOFFSETTO:-0400
TZNAME:EDT
END:DAYLIGHT
END:VTIMEZONE
END:VCALENDAR