BEGIN:VCALENDAR
VERSION:2.0
PRODID:-//wp-events-plugin.com//7.2.3.1//EN
TZID:America/New_York
X-WR-TIMEZONE:America/New_York
BEGIN:VEVENT
UID:2003@findingconnecticut.com
DTSTART;TZID=America/New_York:20231118T150000
DTEND;TZID=America/New_York:20231118T173000
DTSTAMP:20230720T175215Z
URL:https://findingconnecticut.com/events/b-underwater-bubble-show/
SUMMARY:B. Underwater Bubble Show
DESCRIPTION:B. Underwater Bubble Show\nNovember 18 2023 at 3 pm\n Click he
 re for more information \n\n The Palace Theatre\n61 Atlantic Street\nSta
 mford\, Connecticut 06901\n\nTo add an event please email us\, we monitor 
 for spam. We need a photo\, description and website for each submission - 
 We do not accept submissions that are within the next 3 days. submissions 
 at findingconnecticut.com  \n\n[caption id="attachment_16083" align="ali
 gnnone" width="300"] shop.findingconnecticut.com[/caption]
ATTACH;FMTTYPE=image/jpeg:https://findingconnecticut.com/wp-content/upload
 s/2023/07/UnderwaterBubbleShowFeature_1423x593UPDATED.jpg
CATEGORIES:Stamford
LOCATION:The Palace\, 61 Atlantic Street\, Stamford \, Connecticut \, 06901
 \, New England\, United States
X-APPLE-STRUCTURED-LOCATION;VALUE=URI;X-ADDRESS=61 Atlantic Street\, Stamfo
 rd \, Connecticut \, 06901\, New England\, United States;X-APPLE-RADIUS=10
 0;X-TITLE=The Palace:geo:0,0
END:VEVENT
BEGIN:VTIMEZONE
TZID:America/New_York
X-LIC-LOCATION:America/New_York
BEGIN:STANDARD
DTSTART:20231105T010000
TZOFFSETFROM:-0400
TZOFFSETTO:-0500
TZNAME:EST
END:STANDARD
END:VTIMEZONE
END:VCALENDAR