BEGIN:VCALENDAR
VERSION:2.0
PRODID:-//wp-events-plugin.com//7.2.3.1//EN
TZID:America/New_York
X-WR-TIMEZONE:America/New_York
BEGIN:VEVENT
UID:1920@findingconnecticut.com
DTSTART;TZID=America/New_York:20230803T170000
DTEND;TZID=America/New_York:20230803T210000
DTSTAMP:20230714T214430Z
URL:https://findingconnecticut.com/events/ashanti-featuring-ginuwine/
SUMMARY:Ashanti featuring Ginuwine
DESCRIPTION:Ashanti featuring Ginuwine\nAugust 3\, 2023\nClick here for mor
 e information\n\nTo add an event please email us\, we monitor for spam. We
  need a photo\, description and website for each s submission - We do not 
 accept submissions that are within the next 3 days. submissions at finding
 connecticut.com\n\n[caption id="attachment_16083" align="alignnone" width=
 "300"] shop.findingconnecticut.com[/caption]\n\n 
ATTACH;FMTTYPE=image/jpeg:https://findingconnecticut.com/wp-content/upload
 s/2023/07/image003-5.jpg
CATEGORIES:Stamford
LOCATION:Mill River Park\, 1010 Washington Blvd. \, Stamford\, Connecticut 
 \, 06901\, United States
X-APPLE-STRUCTURED-LOCATION;VALUE=URI;X-ADDRESS=1010 Washington Blvd. \, St
 amford\, Connecticut \, 06901\, United States;X-APPLE-RADIUS=100;X-TITLE=M
 ill River Park:geo:0,0
END:VEVENT
BEGIN:VTIMEZONE
TZID:America/New_York
X-LIC-LOCATION:America/New_York
BEGIN:DAYLIGHT
DTSTART:20230312T030000
TZOFFSETFROM:-0500
TZOFFSETTO:-0400
TZNAME:EDT
END:DAYLIGHT
END:VTIMEZONE
END:VCALENDAR