BEGIN:VCALENDAR
VERSION:2.0
PRODID:-//wp-events-plugin.com//7.2.3.1//EN
TZID:America/New_York
X-WR-TIMEZONE:America/New_York
BEGIN:VEVENT
UID:2082@findingconnecticut.com
DTSTART;TZID=America/New_York:20230827T150000
DTEND;TZID=America/New_York:20230827T163000
DTSTAMP:20230726T184511Z
URL:https://findingconnecticut.com/events/artist-talk-2/
SUMMARY:Artist Talk
DESCRIPTION:Artist Talk\nAugust 27\, 2023\n Click here for more informatio
 n \n\n The Norwalk Arts Space\n455 West Ave\n  Norwalk\, CT 06850\n\nTo
  add an event please email us\, we monitor for spam. We need a photo\, des
 cription and website for each submission - We do not accept submissions th
 at are within the next 3 days. submissions at findingconnecticut.com  \n
 \n[caption id="attachment_16083" align="alignnone" width="300"] shop.findi
 ngconnecticut.com[/caption]\n\n&nbsp\;
ATTACH;FMTTYPE=image/jpeg:https://findingconnecticut.com/wp-content/upload
 s/2023/07/unnamed-4.jpg
CATEGORIES:Norwalk
LOCATION:The Norwalk Arts Space\, 455 West Ave\, Norwalk\, Connecticut\, 06
 850\, New England \, United States
X-APPLE-STRUCTURED-LOCATION;VALUE=URI;X-ADDRESS=455 West Ave\, Norwalk\, Co
 nnecticut\, 06850\, New England \, United States;X-APPLE-RADIUS=100;X-TITL
 E=The Norwalk Arts Space:geo:0,0
END:VEVENT
BEGIN:VTIMEZONE
TZID:America/New_York
X-LIC-LOCATION:America/New_York
BEGIN:DAYLIGHT
DTSTART:20230312T030000
TZOFFSETFROM:-0500
TZOFFSETTO:-0400
TZNAME:EDT
END:DAYLIGHT
END:VTIMEZONE
END:VCALENDAR