BEGIN:VCALENDAR
VERSION:2.0
PRODID:-//wp-events-plugin.com//7.2.3.1//EN
TZID:America/New_York
X-WR-TIMEZONE:America/New_York
BEGIN:VEVENT
UID:14733@findingconnecticut.com
DTSTART;TZID=America/New_York:20260521T200000
DTEND;TZID=America/New_York:20260521T223000
DTSTAMP:20260310T151725Z
URL:https://findingconnecticut.com/events/arrival-from-sweden-fairfield-th
 eatre-company-fairfield-ct-may-21-2026/
SUMMARY:Arrival From Sweden
DESCRIPTION:Arrival From Sweden\nMay 21\, 2026 • 8 PM\n\n Click here for
  more information \n\n The Warehouse at Fairfield Theatre Company \n70 S
 anford Street\nFairfield\, CT 06824\nAs of March 2025\, all event listings
  require payment.\nTo submit your event\, please send the event details al
 ong with a photo and/or logo to submissions at findingconnecticut dot com.
  You can complete your payment here\nYour event will be published within 
 24 hours after both payment and all required information have been receive
 d.\nWe offer discounts for multiple event listings.\nThank you for support
 ing Finding Connecticut—your participation helps us grow our website an
 d brand.\n(We do not publish any content that has to do with areas outside
  of Connecticut. If you are looking to post on our Hudson Valley or New Yo
 rk City pages\, then contact us via email.)\n\n\n[caption id="attachment_1
 6083" align="alignnone" width="300"] shop.findingconnecticut.com[/caption]
ATTACH;FMTTYPE=image/jpeg:https://findingconnecticut.com/wp-content/upload
 s/2024/08/Warehouse_FHD_v1.jpg
CATEGORIES:Fairfield
LOCATION:The Warehouse @ Fairfield Theatre Company\, 70 Stanford Street \, 
 Fairfield\, Connecticut \, 06824\, New England \, United States
X-APPLE-STRUCTURED-LOCATION;VALUE=URI;X-ADDRESS=70 Stanford Street \, Fairf
 ield\, Connecticut \, 06824\, New England \, United States;X-APPLE-RADIUS=
 100;X-TITLE=The Warehouse @ Fairfield Theatre Company:geo:0,0
END:VEVENT
BEGIN:VTIMEZONE
TZID:America/New_York
X-LIC-LOCATION:America/New_York
BEGIN:DAYLIGHT
DTSTART:20260308T030000
TZOFFSETFROM:-0500
TZOFFSETTO:-0400
TZNAME:EDT
END:DAYLIGHT
END:VTIMEZONE
END:VCALENDAR