BEGIN:VCALENDAR
VERSION:2.0
PRODID:-//wp-events-plugin.com//7.2.3.1//EN
TZID:America/New_York
X-WR-TIMEZONE:America/New_York
BEGIN:VEVENT
UID:11910@findingconnecticut.com
DTSTART;TZID=America/New_York:20250726T160000
DTEND;TZID=America/New_York:20250726T200000
DTSTAMP:20250525T154647Z
URL:https://findingconnecticut.com/events/argentina-vs-usa-farmington-polo
 -club-farmington-ct-july-26-2025/
SUMMARY:Argentina vs USA
DESCRIPTION:Argentina vs USA\nJuly 26\, 2025 • 4 pm\nClick here to purcha
 se tickets\nClick here for more information\nClick here to learn more abou
 t Farmington Polo Club\n\n Farmington Polo Club \n162 Town Farm Rd\nFarm
 ington\, CT 06032\nAs of March 2025\, all event listings require payment.\
 nTo submit your event\, please send the event details along with a photo a
 nd/or logo to submissions at findingconnecticut dot com. You can complete 
 your payment here\nYour event will be published within 24 hours after bot
 h payment and all required information have been received.\nWe offer disco
 unts for multiple event listings.\nThank you for supporting Finding Conne
 cticut—your participation helps us grow our website and brand.\n&nbsp\;\
 n\n[caption id="attachment_16083" align="alignnone" width="300"] shop.find
 ingconnecticut.com[/caption]
ATTACH;FMTTYPE=image/jpeg:https://findingconnecticut.com/wp-content/upload
 s/2024/06/20240601-fpc-opening-day-005-X5.jpg
CATEGORIES:Farmington
LOCATION:Farmington Polo Club\, 162 Town Farm Rd\, Farmington\, Connecticut
  \, 06032\, New England\, United States
X-APPLE-STRUCTURED-LOCATION;VALUE=URI;X-ADDRESS=162 Town Farm Rd\, Farmingt
 on\, Connecticut \, 06032\, New England\, United States;X-APPLE-RADIUS=100
 ;X-TITLE=Farmington Polo Club:geo:0,0
END:VEVENT
BEGIN:VTIMEZONE
TZID:America/New_York
X-LIC-LOCATION:America/New_York
BEGIN:DAYLIGHT
DTSTART:20250309T030000
TZOFFSETFROM:-0500
TZOFFSETTO:-0400
TZNAME:EDT
END:DAYLIGHT
END:VTIMEZONE
END:VCALENDAR