BEGIN:VCALENDAR
VERSION:2.0
PRODID:-//wp-events-plugin.com//7.2.3.1//EN
TZID:America/New_York
X-WR-TIMEZONE:America/New_York
BEGIN:VEVENT
UID:173@findingconnecticut.com
DTSTART;TZID=America/New_York:20230414T200000
DTEND;TZID=America/New_York:20230414T220000
DTSTAMP:20230201T002952Z
URL:https://findingconnecticut.com/events/are-you-garbage-comedy-podcast/
SUMMARY:Are You Garbage? Comedy podcast
DESCRIPTION:Are You Garbage? Live Comedy Podcast\nFriday\, April 14  • 8
 :00 PM\n\nFor more information click here\nSpace Ballroom\n425 Treadwell S
 treet\nHamden\, CT 06514\nTo add an event please email us\, we monitor for
  spam. We need a photo\, description and website for each submission - We 
 do not accept submissions that are within the next 3 days. submissions@fin
 dingconnecticut.com\n\n\n[caption id="attachment_16083" align="alignnone" 
 width="300"] shop.findingconnecticut.com[/caption]
ATTACH;FMTTYPE=image/jpeg:https://findingconnecticut.com/wp-content/upload
 s/2023/01/Screenshot-2023-01-31-at-5.20.01-PM.png
CATEGORIES:Hamden
LOCATION:Space Ballroom\, 295 Treadwell St\,\,  Hamden\, \, Connecticut\, \
 , 06514\, United States
X-APPLE-STRUCTURED-LOCATION;VALUE=URI;X-ADDRESS=295 Treadwell St\,\,  Hamde
 n\, \, Connecticut\, \, 06514\, United States;X-APPLE-RADIUS=100;X-TITLE=S
 pace Ballroom:geo:0,0
END:VEVENT
BEGIN:VTIMEZONE
TZID:America/New_York
X-LIC-LOCATION:America/New_York
BEGIN:DAYLIGHT
DTSTART:20230312T030000
TZOFFSETFROM:-0500
TZOFFSETTO:-0400
TZNAME:EDT
END:DAYLIGHT
END:VTIMEZONE
END:VCALENDAR