BEGIN:VCALENDAR
VERSION:2.0
PRODID:-//wp-events-plugin.com//7.2.3.1//EN
TZID:America/New_York
X-WR-TIMEZONE:America/New_York
BEGIN:VEVENT
UID:6112@findingconnecticut.com
DTSTART;TZID=America/New_York:20240714T190000
DTEND;TZID=America/New_York:20240714T213000
DTSTAMP:20240511T133039Z
URL:https://findingconnecticut.com/events/aoife-odonovan/
SUMMARY:Aoife O’Donovan
DESCRIPTION:Aoife O’Donovan\nJuly 14\, 2024\n\n For more information cli
 ck here \n Levitt Pavilion \n40 Jessup Road\nWestport\, CT 06880\n To 
 add an event please email us\, we monitor for spam. We need a photo\, desc
 ription and website for each submission - We do not accept submissions tha
 t are within the next 3 days. submissions@findingconnecticut.com\n\n\n[cap
 tion id="attachment_16083" align="alignnone" width="300"] shop.findingconn
 ecticut.com[/caption]
ATTACH;FMTTYPE=image/jpeg:https://findingconnecticut.com/wp-content/upload
 s/2024/05/unnamed-152.jpg
CATEGORIES:Westport
LOCATION:Levitt Pavilion\, 40 Jessup Road\, Westport \, Connecticut \, 0688
 0\, United States
X-APPLE-STRUCTURED-LOCATION;VALUE=URI;X-ADDRESS=40 Jessup Road\, Westport \
 , Connecticut \, 06880\, United States;X-APPLE-RADIUS=100;X-TITLE=Levitt P
 avilion:geo:0,0
END:VEVENT
BEGIN:VTIMEZONE
TZID:America/New_York
X-LIC-LOCATION:America/New_York
BEGIN:DAYLIGHT
DTSTART:20240310T030000
TZOFFSETFROM:-0500
TZOFFSETTO:-0400
TZNAME:EDT
END:DAYLIGHT
END:VTIMEZONE
END:VCALENDAR