BEGIN:VCALENDAR
VERSION:2.0
PRODID:-//wp-events-plugin.com//7.2.3.1//EN
TZID:America/New_York
X-WR-TIMEZONE:America/New_York
BEGIN:VEVENT
UID:1995@findingconnecticut.com
DTSTART;TZID=America/New_York:20231010T190000
DTEND;TZID=America/New_York:20231010T213000
DTSTAMP:20230720T171001Z
URL:https://findingconnecticut.com/events/an-evening-with-david-sedaris/
SUMMARY:An Evening with David Sedaris
DESCRIPTION:An Evening with David Sedaris\nOctober 10 2023 at 7 pm\n Click
  here for more information \n\n The Palace Theatre\n61 Atlantic Street\n
 Stamford\, Connecticut 06901\n\nTo add an event please email us\, we monit
 or for spam. We need a photo\, description and website for each submission
  - We do not accept submissions that are within the next 3 days. submissio
 ns at findingconnecticut.com  \n\n[caption id="attachment_16083" align="
 alignnone" width="300"] shop.findingconnecticut.com[/caption]
ATTACH;FMTTYPE=image/jpeg:https://findingconnecticut.com/wp-content/upload
 s/2023/07/SEDARIS_STAMFORD_VENUE_1423x593_logo.jpg
CATEGORIES:Stamford
LOCATION:The Palace\, 61 Atlantic Street\, Stamford \, Connecticut \, 06901
 \, New England\, United States
X-APPLE-STRUCTURED-LOCATION;VALUE=URI;X-ADDRESS=61 Atlantic Street\, Stamfo
 rd \, Connecticut \, 06901\, New England\, United States;X-APPLE-RADIUS=10
 0;X-TITLE=The Palace:geo:0,0
END:VEVENT
BEGIN:VTIMEZONE
TZID:America/New_York
X-LIC-LOCATION:America/New_York
BEGIN:DAYLIGHT
DTSTART:20230312T030000
TZOFFSETFROM:-0500
TZOFFSETTO:-0400
TZNAME:EDT
END:DAYLIGHT
END:VTIMEZONE
END:VCALENDAR