BEGIN:VCALENDAR
VERSION:2.0
PRODID:-//wp-events-plugin.com//7.2.3.1//EN
TZID:America/New_York
X-WR-TIMEZONE:America/New_York
BEGIN:VEVENT
UID:13791@findingconnecticut.com
DTSTART;TZID=America/New_York:20260529T191000
DTEND;TZID=America/New_York:20260529T213000
DTSTAMP:20260205T130744Z
URL:https://findingconnecticut.com/events/altoona-curve-vs-hartford-yard-g
 oats-may-29-2026-2/
SUMMARY:Altoona Curve vs Hartford Yard Goats
DESCRIPTION:Altoona Curve  vs Hartford Yard Goats \nMay 29\, 2026  • 
  7:10 pm\n\nClick here for more information\n\n Dunkin Donuts Park \n12
 14 Main Street\nHartford\, CT 06103\n\n[caption id="attachment_16083" alig
 n="alignnone" width="300"] shop.findingconnecticut.com[/caption]
ATTACH;FMTTYPE=image/jpeg:https://findingconnecticut.com/wp-content/upload
 s/2021/08/iu-1.png
CATEGORIES:Hartford
LOCATION:Dunkin'  Park\, 1214 Main St\, Hartford \, Connecticut \, 06103\, 
 New England\, United States
X-APPLE-STRUCTURED-LOCATION;VALUE=URI;X-ADDRESS=1214 Main St\, Hartford \, 
 Connecticut \, 06103\, New England\, United States;X-APPLE-RADIUS=100;X-TI
 TLE=Dunkin'  Park:geo:0,0
END:VEVENT
BEGIN:VTIMEZONE
TZID:America/New_York
X-LIC-LOCATION:America/New_York
BEGIN:DAYLIGHT
DTSTART:20260308T030000
TZOFFSETFROM:-0500
TZOFFSETTO:-0400
TZNAME:EDT
END:DAYLIGHT
END:VTIMEZONE
END:VCALENDAR