BEGIN:VCALENDAR
VERSION:2.0
PRODID:-//wp-events-plugin.com//7.2.3.1//EN
TZID:America/New_York
X-WR-TIMEZONE:America/New_York
BEGIN:VEVENT
UID:13840@findingconnecticut.com
DTSTART;TZID=America/New_York:20260227T200000
DTEND;TZID=America/New_York:20260227T223000
DTSTAMP:20260216T165835Z
URL:https://findingconnecticut.com/events/all-your-friends-indie-dance-par
 ty/
SUMMARY:All Your Friends: Indie Dance Party
DESCRIPTION:All Your Friends: Indie Dance Party\nFebruary 27\, 2026  • 
  8 PM\n Click here for more information \n\n Space Ballroom\n425 Tread
 well Street\nHamden\, CT 06514\nAs of March 2025\, all event listings requ
 ire payment.\nTo submit your event\, please send the event details along w
 ith a photo and/or logo to submissions at findingconnecticut dot com. You 
 can complete your payment here\nYour event will be published within 24 ho
 urs after both payment and all required information have been received.\nW
 e offer discounts for multiple event listings.\nThank you for supporting 
 Finding Connecticut—your participation helps us grow our website and bra
 nd.\n(We do not publish any content that has to do with areas outside of C
 onnecticut. If you are looking to post on our Hudson Valley or New York Ci
 ty pages\, then contact us via email.)\n\n\n[caption id="attachment_16083"
  align="alignnone" width="300"] shop.findingconnecticut.com[/caption]\n\n
  
ATTACH;FMTTYPE=image/jpeg:https://findingconnecticut.com/wp-content/upload
 s/2022/02/spaceballroom_logo_biz.jpg
CATEGORIES:Hamden
LOCATION:Space Ballroom\, 295 Treadwell St\,\,  Hamden\, \, Connecticut\, \
 , 06514\, United States
X-APPLE-STRUCTURED-LOCATION;VALUE=URI;X-ADDRESS=295 Treadwell St\,\,  Hamde
 n\, \, Connecticut\, \, 06514\, United States;X-APPLE-RADIUS=100;X-TITLE=S
 pace Ballroom:geo:0,0
END:VEVENT
BEGIN:VTIMEZONE
TZID:America/New_York
X-LIC-LOCATION:America/New_York
BEGIN:STANDARD
DTSTART:20251102T010000
TZOFFSETFROM:-0400
TZOFFSETTO:-0500
TZNAME:EST
END:STANDARD
END:VTIMEZONE
END:VCALENDAR