BEGIN:VCALENDAR
VERSION:2.0
PRODID:-//wp-events-plugin.com//7.2.3.1//EN
TZID:America/New_York
X-WR-TIMEZONE:America/New_York
BEGIN:VEVENT
UID:6120@findingconnecticut.com
DTSTART;TZID=America/New_York:20240518T140000
DTEND;TZID=America/New_York:20240518T163000
DTSTAMP:20240511T142152Z
URL:https://findingconnecticut.com/events/alice-in-wonderland/
SUMMARY:Alice in Wonderland
DESCRIPTION:Alice in Wonderland\nMay 18\, 2024 • 2 pm\n Click here for m
 ore information \n\n The Palace Theatre\n61 Atlantic Street\nStamford\, 
 Connecticut 06901\n\n Click here to return to Finding Connecticut's home 
 page\n\nTo add an event please email us\, we monitor for spam. We need a p
 hoto\, description and website for each submission - We do not accept subm
 issions that are within the next 3 days. submissions at findingconnecticut
 .com  \n\n[caption id="attachment_16083" align="alignnone" width="300"] 
 shop.findingconnecticut.com[/caption]
ATTACH;FMTTYPE=image/jpeg:https://findingconnecticut.com/wp-content/upload
 s/2024/05/unnamed-150.jpg
CATEGORIES:Stamford
LOCATION:The Palace\, 61 Atlantic Street\, Stamford \, Connecticut \, 06901
 \, New England\, United States
X-APPLE-STRUCTURED-LOCATION;VALUE=URI;X-ADDRESS=61 Atlantic Street\, Stamfo
 rd \, Connecticut \, 06901\, New England\, United States;X-APPLE-RADIUS=10
 0;X-TITLE=The Palace:geo:0,0
END:VEVENT
BEGIN:VTIMEZONE
TZID:America/New_York
X-LIC-LOCATION:America/New_York
BEGIN:DAYLIGHT
DTSTART:20240310T030000
TZOFFSETFROM:-0500
TZOFFSETTO:-0400
TZNAME:EDT
END:DAYLIGHT
END:VTIMEZONE
END:VCALENDAR