BEGIN:VCALENDAR
VERSION:2.0
PRODID:-//wp-events-plugin.com//7.2.3.1//EN
TZID:America/New_York
X-WR-TIMEZONE:America/New_York
BEGIN:VEVENT
UID:14440@findingconnecticut.com
DTSTART;TZID=America/New_York:20260404T200000
DTEND;TZID=America/New_York:20260404T220000
DTSTAMP:20260227T021809Z
URL:https://findingconnecticut.com/events/ali-siddiq-the-bushnell-hartford
 -ct-april-4-2026/
SUMMARY:Ali Siddiq
DESCRIPTION:Ali Siddiq\nApril 4\,  2026\n\n Click here for more informati
 on \n\n The Bushnell\n166 Capitol Ave\nHartford\, CT 06106\n\n Click he
 re to return to Finding Connecticut's home page\n\nTo add an event please 
 email us\, we monitor for spam. We need a photo\, description and website 
 for each submission - We do not accept submissions that are within the nex
 t 3 days. submissions@findingconnecticut.com\n\n[caption id="attachment_16
 083" align="alignnone" width="300"] shop.findingconnecticut.com[/caption]\
 n\n&nbsp\;
ATTACH;FMTTYPE=image/jpeg:https://findingconnecticut.com/wp-content/upload
 s/2026/01/Ali_CustomFit_Admat_1200x628_HartfordCT.jpg
CATEGORIES:Hartford
LOCATION:The Bushnell\, 166 Capitol Ave\, \, Hartford\,\, Connecticut\, \, 
 06106\, \, New England\, \, United States
X-APPLE-STRUCTURED-LOCATION;VALUE=URI;X-ADDRESS=166 Capitol Ave\, \, Hartfo
 rd\,\, Connecticut\, \, 06106\, \, New England\, \, United States;X-APPLE-
 RADIUS=100;X-TITLE=The Bushnell:geo:0,0
END:VEVENT
BEGIN:VTIMEZONE
TZID:America/New_York
X-LIC-LOCATION:America/New_York
BEGIN:DAYLIGHT
DTSTART:20260308T030000
TZOFFSETFROM:-0500
TZOFFSETTO:-0400
TZNAME:EDT
END:DAYLIGHT
END:VTIMEZONE
END:VCALENDAR