BEGIN:VCALENDAR
VERSION:2.0
PRODID:-//wp-events-plugin.com//7.2.3.1//EN
TZID:America/New_York
X-WR-TIMEZONE:America/New_York
BEGIN:VEVENT
UID:1480@findingconnecticut.com
DTSTART;TZID=America/New_York:20230612T190000
DTEND;TZID=America/New_York:20230612T213000
DTSTAMP:20230608T235409Z
URL:https://findingconnecticut.com/events/agatha-christies-the-murder-of-r
 oger-ackroyd/
SUMMARY:Agatha Christie’s The Murder of Roger Ackroyd
DESCRIPTION:Agatha Christie’s The Murder of Roger Ackroyd\nJune 12\, 2023
   •  7 PM\nClick here for more information \n\n Westport Country Pla
 yhouse \n25 Powers Court\nWestport\, Connecticut 06880\n\nTo add an event 
 please email us\, we monitor for spam. We need a photo\, description and w
 ebsite for each submission - We do not accept submissions that are within 
 the next 3 days. submissions at findingconnecticut.com \n\n\n\n[caption i
 d="attachment_16083" align="alignnone" width="300"] shop.findingconnecticu
 t.com[/caption]
ATTACH;FMTTYPE=image/jpeg:https://findingconnecticut.com/wp-content/upload
 s/2023/06/Santino-Fontana.jpg
CATEGORIES:Westport
LOCATION:Westport Country Playhouse\, 25 Powers Court\, \, Westport\, \, Co
 nnecticut\, \, 06880\, New England \, United States
X-APPLE-STRUCTURED-LOCATION;VALUE=URI;X-ADDRESS=25 Powers Court\, \, Westpo
 rt\, \, Connecticut\, \, 06880\, New England \, United States;X-APPLE-RADI
 US=100;X-TITLE=Westport Country Playhouse:geo:0,0
END:VEVENT
BEGIN:VTIMEZONE
TZID:America/New_York
X-LIC-LOCATION:America/New_York
BEGIN:DAYLIGHT
DTSTART:20230312T030000
TZOFFSETFROM:-0500
TZOFFSETTO:-0400
TZNAME:EDT
END:DAYLIGHT
END:VTIMEZONE
END:VCALENDAR