BEGIN:VCALENDAR
VERSION:2.0
PRODID:-//wp-events-plugin.com//7.2.3.1//EN
TZID:America/New_York
X-WR-TIMEZONE:America/New_York
BEGIN:VEVENT
UID:1484@findingconnecticut.com
DTSTART;TZID=America/New_York:20230616T190000
DTEND;TZID=America/New_York:20230616T220000
DTSTAMP:20230609T140505Z
URL:https://findingconnecticut.com/events/afro-latin-film-festival/
SUMMARY:Afro Latin Film Festival
DESCRIPTION:Afro-Latin Film Festival\nJune 16\, 2023 • 7 PM\nClick here f
 or more information \n\nSeven Angels Theatre \n1 Plank Rd\nWaterbury\, C
 T 06705\n\nTo add an event please email us\, we monitor for spam. We need 
 a photo\, description and website for each submission - We do not accept s
 ubmissions that are within the next 3 days. submissions at findingconnecti
 cut.com  \n\n[caption id="attachment_16083" align="alignnone" width="300
 "] shop.findingconnecticut.com[/caption]
ATTACH;FMTTYPE=image/jpeg:https://findingconnecticut.com/wp-content/upload
 s/2023/06/unnamed-21.png
LOCATION:Seven Angels Theatre\, 1 Plank Rd\, Waterbury \, Connecticut \, 06
 705 \, United States
X-APPLE-STRUCTURED-LOCATION;VALUE=URI;X-ADDRESS=1 Plank Rd\, Waterbury \, C
 onnecticut \, 06705 \, United States;X-APPLE-RADIUS=100;X-TITLE=Seven Ange
 ls Theatre:geo:0,0
END:VEVENT
BEGIN:VTIMEZONE
TZID:America/New_York
X-LIC-LOCATION:America/New_York
BEGIN:DAYLIGHT
DTSTART:20230312T030000
TZOFFSETFROM:-0500
TZOFFSETTO:-0400
TZNAME:EDT
END:DAYLIGHT
END:VTIMEZONE
END:VCALENDAR