BEGIN:VCALENDAR
VERSION:2.0
PRODID:-//wp-events-plugin.com//7.2.3.1//EN
TZID:America/New_York
X-WR-TIMEZONE:America/New_York
BEGIN:VEVENT
UID:1487@findingconnecticut.com
DTSTART;TZID=America/New_York:20230618T140000
DTEND;TZID=America/New_York:20230618T170000
DTSTAMP:20230609T141012Z
URL:https://findingconnecticut.com/events/afro-latin-film-festival-4/
SUMMARY:Afro Latin Film Festival
DESCRIPTION:Afro-Latin Film Festival\nJune 18\, 2023 • 2 PM\n Click here
  for more information \n\n Seven Angels Theatre \n1 Plank Rd\nWaterbury
 \, CT 06705\n\nTo add an event please email us\, we monitor for spam. We n
 eed a photo\, description and website for each submission - We do not acce
 pt submissions that are within the next 3 days. submissions at findingconn
 ecticut.com  \n\n[caption id="attachment_16083" align="alignnone" width=
 "300"] shop.findingconnecticut.com[/caption]
ATTACH;FMTTYPE=image/jpeg:https://findingconnecticut.com/wp-content/upload
 s/2023/06/unnamed-21.png
LOCATION:Seven Angels Theatre\, 1 Plank Rd\, Waterbury \, Connecticut \, 06
 705 \, United States
X-APPLE-STRUCTURED-LOCATION;VALUE=URI;X-ADDRESS=1 Plank Rd\, Waterbury \, C
 onnecticut \, 06705 \, United States;X-APPLE-RADIUS=100;X-TITLE=Seven Ange
 ls Theatre:geo:0,0
END:VEVENT
BEGIN:VTIMEZONE
TZID:America/New_York
X-LIC-LOCATION:America/New_York
BEGIN:DAYLIGHT
DTSTART:20230312T030000
TZOFFSETFROM:-0500
TZOFFSETTO:-0400
TZNAME:EDT
END:DAYLIGHT
END:VTIMEZONE
END:VCALENDAR