BEGIN:VCALENDAR
VERSION:2.0
PRODID:-//wp-events-plugin.com//7.2.3.1//EN
TZID:America/New_York
X-WR-TIMEZONE:America/New_York
BEGIN:VEVENT
UID:6155@findingconnecticut.com
DTSTART;TZID=America/New_York:20240601T190000
DTEND;TZID=America/New_York:20240601T220000
DTSTAMP:20240525T202508Z
URL:https://findingconnecticut.com/events/a-night-for-swifties-2/
SUMMARY:A Night For Swifties
DESCRIPTION:A Night For Swifties\nJune 1\, 2024\n\n  Click here for more i
 nformation \n\n Westport Country Playhouse \n25 Powers Court\nWestport\
 , Connecticut 06880\n\nTo add an event please email us\, we monitor for sp
 am. We need a photo\, description and website for each submission - We do 
 not accept submissions that are within the next 3 days. submissions@findin
 gconnecticut.com\n\n[caption id="attachment_16083" align="alignnone" width
 ="300"] shop.findingconnecticut.com[/caption]
ATTACH;FMTTYPE=image/jpeg:https://findingconnecticut.com/wp-content/upload
 s/2024/01/anightforswifties_preview-scaled.jpg
CATEGORIES:Westport
LOCATION:Westport Country Playhouse\, 25 Powers Court\, \, Westport\, \, Co
 nnecticut\, \, 06880\, New England \, United States
X-APPLE-STRUCTURED-LOCATION;VALUE=URI;X-ADDRESS=25 Powers Court\, \, Westpo
 rt\, \, Connecticut\, \, 06880\, New England \, United States;X-APPLE-RADI
 US=100;X-TITLE=Westport Country Playhouse:geo:0,0
END:VEVENT
BEGIN:VTIMEZONE
TZID:America/New_York
X-LIC-LOCATION:America/New_York
BEGIN:DAYLIGHT
DTSTART:20240310T030000
TZOFFSETFROM:-0500
TZOFFSETTO:-0400
TZNAME:EDT
END:DAYLIGHT
END:VTIMEZONE
END:VCALENDAR