BEGIN:VCALENDAR
VERSION:2.0
PRODID:-//wp-events-plugin.com//7.2.3.1//EN
TZID:America/New_York
X-WR-TIMEZONE:America/New_York
BEGIN:VEVENT
UID:2464@findingconnecticut.com
DTSTART;TZID=America/New_York:20231216T200000
DTEND;TZID=America/New_York:20231216T220000
DTSTAMP:20230825T162345Z
URL:https://findingconnecticut.com/events/a-christmas-story-4/
SUMMARY:A Christmas Story
DESCRIPTION:A Christmas Story\nDecember 16\, 2023 • 8 PM\n Click here fo
 r more information \n\nTo add an event please email us\, we monitor for s
 pam. We need a photo\, description and website for each submission - We do
  not accept submissions that are within the next 3 days. submissions at fi
 ndingconnecticut.com\n\n[caption id="attachment_16083" align="alignnone" w
 idth="300"] shop.findingconnecticut.com[/caption]\n\n 
ATTACH;FMTTYPE=image/jpeg:https://findingconnecticut.com/wp-content/upload
 s/2023/08/IMG_1283-1200x675-1.jpeg
CATEGORIES:New Canaan
LOCATION:Town Players of New Canaan\, Waveny Park\, New Canaan\, Connecticu
 t \, 06840\, New England\, United States
X-APPLE-STRUCTURED-LOCATION;VALUE=URI;X-ADDRESS=Waveny Park\, New Canaan\, 
 Connecticut \, 06840\, New England\, United States;X-APPLE-RADIUS=100;X-TI
 TLE=Town Players of New Canaan:geo:0,0
END:VEVENT
BEGIN:VTIMEZONE
TZID:America/New_York
X-LIC-LOCATION:America/New_York
BEGIN:STANDARD
DTSTART:20231105T010000
TZOFFSETFROM:-0400
TZOFFSETTO:-0500
TZNAME:EST
END:STANDARD
END:VTIMEZONE
END:VCALENDAR