BEGIN:VCALENDAR
VERSION:2.0
PRODID:-//wp-events-plugin.com//7.2.3.1//EN
TZID:America/New_York
X-WR-TIMEZONE:America/New_York
BEGIN:VEVENT
UID:12389@findingconnecticut.com
DTSTART;TZID=America/New_York:20251221T140000
DTEND;TZID=America/New_York:20251221T160000
DTSTAMP:20250714T193314Z
URL:https://findingconnecticut.com/events/a-christmas-carol-2-2025-12-21/
SUMMARY:A Christmas Carol
DESCRIPTION:A Christmas Carol\n  Click here for more information \n\nHart
 ford Stage\n50 Church St\nHartford\, CT 06103\n\nShare your Hartford Stage
  experience with us by using #findingconnecticut on Instagram\n\nClick he
 re for more information about Hartford Stage \nClick here for the latest 
 news at Hartford Stage \nClick here for the upcoming events at Hartford S
 tage \nClick here for the latest news in Hartford\nClick here for upcomin
 g events in Hartford \nClick here for the latest news in New London Count
 y\nClick here for the upcoming events in Hartford County\nAs of March 2025
 \, all event listings require payment.\nTo submit your event\, please send
  the event details along with a photo and/or logo to submissions at findin
 gconnecticut dot com. You can complete your payment here\nYour event will
  be published within 24 hours after both payment and all required informat
 ion have been received.\nWe offer discounts for multiple event listings.\n
 Thank you for supporting Finding Connecticut—your participation helps u
 s grow our website and brand.
ATTACH;FMTTYPE=image/jpeg:https://findingconnecticut.com/wp-content/upload
 s/2025/06/unnamed-81.png
CATEGORIES:Hartford
LOCATION:Hartford Stage\, 50 Church Street \, Hartford\, Connecticut \, 061
 03\, United States
X-APPLE-STRUCTURED-LOCATION;VALUE=URI;X-ADDRESS=50 Church Street \, Hartfor
 d\, Connecticut \, 06103\, United States;X-APPLE-RADIUS=100;X-TITLE=Hartfo
 rd Stage:geo:0,0
END:VEVENT
BEGIN:VTIMEZONE
TZID:America/New_York
X-LIC-LOCATION:America/New_York
BEGIN:STANDARD
DTSTART:20251102T010000
TZOFFSETFROM:-0400
TZOFFSETTO:-0500
TZNAME:EST
END:STANDARD
END:VTIMEZONE
END:VCALENDAR