BEGIN:VCALENDAR
VERSION:2.0
PRODID:-//wp-events-plugin.com//7.2.3.1//EN
TZID:America/New_York
X-WR-TIMEZONE:America/New_York
BEGIN:VEVENT
UID:14789@findingconnecticut.com
DTSTART;TZID=America/New_York:20260427T090000
DTEND;TZID=America/New_York:20260427T200000
DTSTAMP:20260310T161052Z
URL:https://findingconnecticut.com/events/a-bevy-of-beauty-2-2026-03-10-20
 26-03-11-2026-03-12-2026-03-13-2026-03-16-2026-03-17-2026-03-18-2026-03-19
 -2026-03-20-2026-03-23-2026-03-24-2026-03-25-2026-03-26-2026-03-27-2026-03
 -30-20-24-2026-04-27/
SUMMARY:A Bevy of Beauty
DESCRIPTION:A Bevy of Beauty\n Click here for more information \n\n The 
 Kershner Gallery at Fairfield Public Library \n1080 Old Post Road\nFairfi
 eld\, Connecticut 06824\nAs of March 2025\, all event listings require pay
 ment.\nTo submit your event\, please send the event details along with a p
 hoto and/or logo to submissions at findingconnecticut dot com. You can com
 plete your payment here\nYour event will be published within 24 hours aft
 er both payment and all required information have been received.\nWe offer
  discounts for multiple event listings.\nThank you for supporting Finding
  Connecticut—your participation helps us grow our website and brand.\n(W
 e do not publish any content that has to do with areas outside of Connecti
 cut. If you are looking to post on our Hudson Valley or New York City page
 s\, then contact us via email.)\n\n\n[caption id="attachment_16083" align=
 "alignnone" width="300"] shop.findingconnecticut.com[/caption]
ATTACH;FMTTYPE=image/jpeg:https://findingconnecticut.com/wp-content/upload
 s/2026/02/keith-evening-jaunt.png
CATEGORIES:Fairfield
LOCATION:The Kershner Gallery at Fairfield Public Library\, 1080 Old Post R
 oad \, Fairfield\, Connecticut \, 06824\, New England\, United States
X-APPLE-STRUCTURED-LOCATION;VALUE=URI;X-ADDRESS=1080 Old Post Road \, Fair
 field\, Connecticut \, 06824\, New England\, United States;X-APPLE-RADIUS=
 100;X-TITLE=The Kershner Gallery at Fairfield Public Library:geo:0,0
END:VEVENT
BEGIN:VTIMEZONE
TZID:America/New_York
X-LIC-LOCATION:America/New_York
BEGIN:DAYLIGHT
DTSTART:20260308T030000
TZOFFSETFROM:-0500
TZOFFSETTO:-0400
TZNAME:EDT
END:DAYLIGHT
END:VTIMEZONE
END:VCALENDAR