BEGIN:VCALENDAR
VERSION:2.0
PRODID:-//wp-events-plugin.com//7.2.3.1//EN
TZID:America/New_York
X-WR-TIMEZONE:America/New_York
BEGIN:VEVENT
UID:1902@findingconnecticut.com
DTSTART;TZID=America/New_York:20230817T090000
DTEND;TZID=America/New_York:20230817T160000
DTSTAMP:20230714T142210Z
URL:https://findingconnecticut.com/events/74th-annual-summer-juried-exhibi
 tion-16/
SUMMARY:74th Annual Summer Juried Exhibition
DESCRIPTION:74th Annual Summer Juried Exhibition\nAugust  17\,  2023  
 • 9 am - 4 pm\nClick here for more information\n\n    Clinton Art Soci
 ety\nAndrews Memorial Town Hall\n54 Main Street\nClinton\, Connecticut 064
 13\n\nTo add an event please email us\, we monitor for spam. We need a pho
 to\, description and website for each submission - We do not accept submis
 sions that are within the next 3 days. submissions at findingconnecticut.c
 om\n\n[caption id="attachment_16083" align="alignnone" width="300"] shop.f
 indingconnecticut.com[/caption]\n\n \n\n&nbsp\;
ATTACH;FMTTYPE=image/jpeg:https://findingconnecticut.com/wp-content/upload
 s/2023/07/Alexandra-Wetmore_Lobster-Landing_Collage.jpg
CATEGORIES:Clinton
LOCATION:Andrews Memorial Town Hall\, 54 Main Street\, Clinton\, Connecticu
 t \, 06513\, United States
X-APPLE-STRUCTURED-LOCATION;VALUE=URI;X-ADDRESS=54 Main Street\, Clinton\, 
 Connecticut \, 06513\, United States;X-APPLE-RADIUS=100;X-TITLE=Andrews Me
 morial Town Hall:geo:0,0
END:VEVENT
BEGIN:VTIMEZONE
TZID:America/New_York
X-LIC-LOCATION:America/New_York
BEGIN:DAYLIGHT
DTSTART:20230312T030000
TZOFFSETFROM:-0500
TZOFFSETTO:-0400
TZNAME:EDT
END:DAYLIGHT
END:VTIMEZONE
END:VCALENDAR