BEGIN:VCALENDAR
VERSION:2.0
PRODID:-//wp-events-plugin.com//7.2.3.1//EN
TZID:America/New_York
X-WR-TIMEZONE:America/New_York
BEGIN:VEVENT
UID:2438@findingconnecticut.com
DTSTART;TZID=America/New_York:20230930T183000
DTEND;TZID=America/New_York:20230930T200000
DTSTAMP:20230824T143538Z
URL:https://findingconnecticut.com/events/20th-annual-celebrate-mansfield-
 festival/
SUMMARY:20th Annual Celebrate Mansfield Festival
DESCRIPTION:20th Annual Celebrate Mansfield Festival\nSeptember 30\, 2023\n
  Click here for more information \n\nTo add an event please email us\, w
 e monitor for spam. We need a photo\, description and website for each sub
 mission - We do not accept submissions that are within the next 3 days. su
 bmissions at findingconnecticut.com\n\n[caption id="attachment_16083" alig
 n="alignnone" width="300"] shop.findingconnecticut.com[/caption]\n\n \n\n
 &nbsp\;
ATTACH;FMTTYPE=image/jpeg:https://findingconnecticut.com/wp-content/upload
 s/2023/08/thewolfsisters.jpg
CATEGORIES:Storrs
LOCATION:Downtown Storrs\, Storrs Road\, Storrs\, Connecticut\, New England
  \, United States
X-APPLE-STRUCTURED-LOCATION;VALUE=URI;X-ADDRESS=Storrs Road\, Storrs\, Conn
 ecticut\, New England \, United States;X-APPLE-RADIUS=100;X-TITLE=Downtown
  Storrs:geo:0,0
END:VEVENT
BEGIN:VTIMEZONE
TZID:America/New_York
X-LIC-LOCATION:America/New_York
BEGIN:DAYLIGHT
DTSTART:20230312T030000
TZOFFSETFROM:-0500
TZOFFSETTO:-0400
TZNAME:EDT
END:DAYLIGHT
END:VTIMEZONE
END:VCALENDAR